BEGIN:VCALENDAR
VERSION:2.0
PRODID:-//Compagnie de Comédie - ECPv6.15.20//NONSGML v1.0//EN
CALSCALE:GREGORIAN
METHOD:PUBLISH
X-WR-CALNAME:Compagnie de Comédie
X-ORIGINAL-URL:https://compagnie-de-comedie.de
X-WR-CALDESC:Veranstaltungen für Compagnie de Comédie
REFRESH-INTERVAL;VALUE=DURATION:PT1H
X-Robots-Tag:noindex
X-PUBLISHED-TTL:PT1H
BEGIN:VTIMEZONE
TZID:Europe/Berlin
BEGIN:DAYLIGHT
TZOFFSETFROM:+0100
TZOFFSETTO:+0200
TZNAME:CEST
DTSTART:20250330T010000
END:DAYLIGHT
BEGIN:STANDARD
TZOFFSETFROM:+0200
TZOFFSETTO:+0100
TZNAME:CET
DTSTART:20251026T010000
END:STANDARD
BEGIN:DAYLIGHT
TZOFFSETFROM:+0100
TZOFFSETTO:+0200
TZNAME:CEST
DTSTART:20260329T010000
END:DAYLIGHT
BEGIN:STANDARD
TZOFFSETFROM:+0200
TZOFFSETTO:+0100
TZNAME:CET
DTSTART:20261025T010000
END:STANDARD
BEGIN:DAYLIGHT
TZOFFSETFROM:+0100
TZOFFSETTO:+0200
TZNAME:CEST
DTSTART:20270328T010000
END:DAYLIGHT
BEGIN:STANDARD
TZOFFSETFROM:+0200
TZOFFSETTO:+0100
TZNAME:CET
DTSTART:20271031T010000
END:STANDARD
END:VTIMEZONE
BEGIN:VEVENT
DTSTART;TZID=Europe/Berlin:20260625T200000
DTEND;TZID=Europe/Berlin:20260625T220000
DTSTAMP:20260423T124603
CREATED:20260115T101348Z
LAST-MODIFIED:20260115T101348Z
UID:10000940-1782417600-1782424800@compagnie-de-comedie.de
SUMMARY:TIMSKIS - SOMMERKONZERT
DESCRIPTION:TIMSKIS – SOMMERKONZERT \nWieder heimgekehrt von großer Fahrt packen die Timskis im Klostergarten ihre Mitbringsel aus: Musik aus den Bars und Hafenkneipen in Dublin\, Singapur\, Marseille und Bukarest (? ja Binnenschifffahrt zählt auch). Mit großer Spielfreude und wechselndem Instrumentarium werden Lieder von Piaf\, Bronski Beat oder Jennifer Rostock zelebriert… und Peter Gabriels „Mercy Street“ ist auch nur zwei Blocks von den Docks in Manhattan entfernt. \nReservierungen: 0381/ 203 60 84\nKartenvorverkauf:\nBÜHNE 602\, Warnowufer 55\, 18057 Rostock\nMo – Fr von 10:00 – 12:00 Uhr\nFr von 14:00 – 18:00 Uhr\n(Keine Kartenzahlung möglich) \noder Online:\nhttp://www.mvticket.de/b602shop \nDie Abendkasse öffnet eine Stunde vor Veranstaltungsbeginn.
URL:https://compagnie-de-comedie.de/event/timskis-sommerkonzert-3/2026-06-25/
LOCATION:Klostergarten\, Kloster zum Heiligen Kreuz Rostock\, Klosterhof 1\, Rostock\, Mecklenburg-Vorpommern\, 18055\, Deutschland
ATTACH;FMTTYPE=image/jpeg:https://compagnie-de-comedie.de/wp-content/uploads/2026/01/Timski-Foto-Timskis-1500.jpg
END:VEVENT
BEGIN:VEVENT
DTSTART;TZID=Europe/Berlin:20260823T200000
DTEND;TZID=Europe/Berlin:20260823T220000
DTSTAMP:20260423T124603
CREATED:20260115T101348Z
LAST-MODIFIED:20260115T101348Z
UID:10000941-1787515200-1787522400@compagnie-de-comedie.de
SUMMARY:TIMSKIS - SOMMERKONZERT
DESCRIPTION:TIMSKIS – SOMMERKONZERT \nWieder heimgekehrt von großer Fahrt packen die Timskis im Klostergarten ihre Mitbringsel aus: Musik aus den Bars und Hafenkneipen in Dublin\, Singapur\, Marseille und Bukarest (? ja Binnenschifffahrt zählt auch). Mit großer Spielfreude und wechselndem Instrumentarium werden Lieder von Piaf\, Bronski Beat oder Jennifer Rostock zelebriert… und Peter Gabriels „Mercy Street“ ist auch nur zwei Blocks von den Docks in Manhattan entfernt. \nReservierungen: 0381/ 203 60 84\nKartenvorverkauf:\nBÜHNE 602\, Warnowufer 55\, 18057 Rostock\nMo – Fr von 10:00 – 12:00 Uhr\nFr von 14:00 – 18:00 Uhr\n(Keine Kartenzahlung möglich) \noder Online:\nhttp://www.mvticket.de/b602shop \nDie Abendkasse öffnet eine Stunde vor Veranstaltungsbeginn.
URL:https://compagnie-de-comedie.de/event/timskis-sommerkonzert-3/2026-08-23/
LOCATION:Klostergarten\, Kloster zum Heiligen Kreuz Rostock\, Klosterhof 1\, Rostock\, Mecklenburg-Vorpommern\, 18055\, Deutschland
ATTACH;FMTTYPE=image/jpeg:https://compagnie-de-comedie.de/wp-content/uploads/2026/01/Timski-Foto-Timskis-1500.jpg
END:VEVENT
END:VCALENDAR