BEGIN:VCALENDAR
VERSION:2.0
PRODID:-//Compagnie de Comédie - ECPv6.15.20//NONSGML v1.0//EN
CALSCALE:GREGORIAN
METHOD:PUBLISH
X-WR-CALNAME:Compagnie de Comédie
X-ORIGINAL-URL:https://compagnie-de-comedie.de
X-WR-CALDESC:Veranstaltungen für Compagnie de Comédie
REFRESH-INTERVAL;VALUE=DURATION:PT1H
X-Robots-Tag:noindex
X-PUBLISHED-TTL:PT1H
BEGIN:VTIMEZONE
TZID:Europe/Berlin
BEGIN:DAYLIGHT
TZOFFSETFROM:+0100
TZOFFSETTO:+0200
TZNAME:CEST
DTSTART:20250330T010000
END:DAYLIGHT
BEGIN:STANDARD
TZOFFSETFROM:+0200
TZOFFSETTO:+0100
TZNAME:CET
DTSTART:20251026T010000
END:STANDARD
BEGIN:DAYLIGHT
TZOFFSETFROM:+0100
TZOFFSETTO:+0200
TZNAME:CEST
DTSTART:20260329T010000
END:DAYLIGHT
BEGIN:STANDARD
TZOFFSETFROM:+0200
TZOFFSETTO:+0100
TZNAME:CET
DTSTART:20261025T010000
END:STANDARD
BEGIN:DAYLIGHT
TZOFFSETFROM:+0100
TZOFFSETTO:+0200
TZNAME:CEST
DTSTART:20270328T010000
END:DAYLIGHT
BEGIN:STANDARD
TZOFFSETFROM:+0200
TZOFFSETTO:+0100
TZNAME:CET
DTSTART:20271031T010000
END:STANDARD
END:VTIMEZONE
BEGIN:VEVENT
DTSTART;TZID=Europe/Berlin:20261126T200000
DTEND;TZID=Europe/Berlin:20261126T220000
DTSTAMP:20260424T022517
CREATED:20260115T102505Z
LAST-MODIFIED:20260115T102505Z
UID:10000942-1795723200-1795730400@compagnie-de-comedie.de
SUMMARY:TIMSKIS - WEIHNACHTSKONZERT
DESCRIPTION:TIMSKIS – Weihnachtskonzert \nZum diesjährigen Weihnachtsfest haben die „Timskis“ in die Welt gehorcht und Lieder\, weihnachtlich\, winterlich oder einfach nur schön aus entlegensten Winkeln wie Schätze zusammengetragen. Zwischen Russ-\, Is-\, Deutsch- und Irland spannt sich der musikalische Bilderbogen\, der mit timski-typischer Spielfreude entrollt wird.\nNatürlich sind beim traditionellen Timskiweihnachten musikalische Überraschungsgäste eingeladen und ein sangesfreudiges Publikum darf sich aufs Mitsingen freuen. \nReservierungen: 0381/ 203 60 84\nKartenvorverkauf in der BÜHNE 602\nWarnowufer 55\, 18057 Rostock\nMo – Fr von 10:00 – 12:00 Uhr\nFr von 14:00 – 18:00 Uhr\n(Keine Kartenzahlung möglich) \noder Online:\nhttp://www.mvticket.de/b602shop \nDie Theaterkasse öffnet eine Stunde vor Veranstaltungsbeginn.
URL:https://compagnie-de-comedie.de/event/timskis-weihnachtskonzert/2026-11-26/
LOCATION:BÜHNE 602\, Warnowufer\, Rostock\, Mecklenburg-Vorpommern\, 18057\, Deutschland
ATTACH;FMTTYPE=image/jpeg:https://compagnie-de-comedie.de/wp-content/uploads/2026/01/Foto-Neu-Timskis.jpg
END:VEVENT
BEGIN:VEVENT
DTSTART;TZID=Europe/Berlin:20261205T200000
DTEND;TZID=Europe/Berlin:20261205T220000
DTSTAMP:20260424T022517
CREATED:20260115T102505Z
LAST-MODIFIED:20260115T102505Z
UID:10000943-1796500800-1796508000@compagnie-de-comedie.de
SUMMARY:TIMSKIS - WEIHNACHTSKONZERT
DESCRIPTION:TIMSKIS – Weihnachtskonzert \nZum diesjährigen Weihnachtsfest haben die „Timskis“ in die Welt gehorcht und Lieder\, weihnachtlich\, winterlich oder einfach nur schön aus entlegensten Winkeln wie Schätze zusammengetragen. Zwischen Russ-\, Is-\, Deutsch- und Irland spannt sich der musikalische Bilderbogen\, der mit timski-typischer Spielfreude entrollt wird.\nNatürlich sind beim traditionellen Timskiweihnachten musikalische Überraschungsgäste eingeladen und ein sangesfreudiges Publikum darf sich aufs Mitsingen freuen. \nReservierungen: 0381/ 203 60 84\nKartenvorverkauf in der BÜHNE 602\nWarnowufer 55\, 18057 Rostock\nMo – Fr von 10:00 – 12:00 Uhr\nFr von 14:00 – 18:00 Uhr\n(Keine Kartenzahlung möglich) \noder Online:\nhttp://www.mvticket.de/b602shop \nDie Theaterkasse öffnet eine Stunde vor Veranstaltungsbeginn.
URL:https://compagnie-de-comedie.de/event/timskis-weihnachtskonzert/2026-12-05/
LOCATION:BÜHNE 602\, Warnowufer\, Rostock\, Mecklenburg-Vorpommern\, 18057\, Deutschland
ATTACH;FMTTYPE=image/jpeg:https://compagnie-de-comedie.de/wp-content/uploads/2026/01/Foto-Neu-Timskis.jpg
END:VEVENT
BEGIN:VEVENT
DTSTART;TZID=Europe/Berlin:20261219T200000
DTEND;TZID=Europe/Berlin:20261219T220000
DTSTAMP:20260424T022517
CREATED:20260115T102505Z
LAST-MODIFIED:20260115T102505Z
UID:10000944-1797710400-1797717600@compagnie-de-comedie.de
SUMMARY:TIMSKIS - WEIHNACHTSKONZERT
DESCRIPTION:TIMSKIS – Weihnachtskonzert \nZum diesjährigen Weihnachtsfest haben die „Timskis“ in die Welt gehorcht und Lieder\, weihnachtlich\, winterlich oder einfach nur schön aus entlegensten Winkeln wie Schätze zusammengetragen. Zwischen Russ-\, Is-\, Deutsch- und Irland spannt sich der musikalische Bilderbogen\, der mit timski-typischer Spielfreude entrollt wird.\nNatürlich sind beim traditionellen Timskiweihnachten musikalische Überraschungsgäste eingeladen und ein sangesfreudiges Publikum darf sich aufs Mitsingen freuen. \nReservierungen: 0381/ 203 60 84\nKartenvorverkauf in der BÜHNE 602\nWarnowufer 55\, 18057 Rostock\nMo – Fr von 10:00 – 12:00 Uhr\nFr von 14:00 – 18:00 Uhr\n(Keine Kartenzahlung möglich) \noder Online:\nhttp://www.mvticket.de/b602shop \nDie Theaterkasse öffnet eine Stunde vor Veranstaltungsbeginn.
URL:https://compagnie-de-comedie.de/event/timskis-weihnachtskonzert/2026-12-19/
LOCATION:BÜHNE 602\, Warnowufer\, Rostock\, Mecklenburg-Vorpommern\, 18057\, Deutschland
ATTACH;FMTTYPE=image/jpeg:https://compagnie-de-comedie.de/wp-content/uploads/2026/01/Foto-Neu-Timskis.jpg
END:VEVENT
END:VCALENDAR