BEGIN:VCALENDAR
VERSION:2.0
PRODID:-//Compagnie de Comédie - ECPv6.15.20//NONSGML v1.0//EN
CALSCALE:GREGORIAN
METHOD:PUBLISH
X-WR-CALNAME:Compagnie de Comédie
X-ORIGINAL-URL:https://compagnie-de-comedie.de
X-WR-CALDESC:Veranstaltungen für Compagnie de Comédie
REFRESH-INTERVAL;VALUE=DURATION:PT1H
X-Robots-Tag:noindex
X-PUBLISHED-TTL:PT1H
BEGIN:VTIMEZONE
TZID:Europe/Berlin
BEGIN:DAYLIGHT
TZOFFSETFROM:+0100
TZOFFSETTO:+0200
TZNAME:CEST
DTSTART:20250330T010000
END:DAYLIGHT
BEGIN:STANDARD
TZOFFSETFROM:+0200
TZOFFSETTO:+0100
TZNAME:CET
DTSTART:20251026T010000
END:STANDARD
BEGIN:DAYLIGHT
TZOFFSETFROM:+0100
TZOFFSETTO:+0200
TZNAME:CEST
DTSTART:20260329T010000
END:DAYLIGHT
BEGIN:STANDARD
TZOFFSETFROM:+0200
TZOFFSETTO:+0100
TZNAME:CET
DTSTART:20261025T010000
END:STANDARD
BEGIN:DAYLIGHT
TZOFFSETFROM:+0100
TZOFFSETTO:+0200
TZNAME:CEST
DTSTART:20270328T010000
END:DAYLIGHT
BEGIN:STANDARD
TZOFFSETFROM:+0200
TZOFFSETTO:+0100
TZNAME:CET
DTSTART:20271031T010000
END:STANDARD
END:VTIMEZONE
BEGIN:VEVENT
DTSTART;TZID=Europe/Berlin:20260419T170000
DTEND;TZID=Europe/Berlin:20260419T190000
DTSTAMP:20260419T144735
CREATED:20251219T091455Z
LAST-MODIFIED:20251219T091455Z
UID:10000929-1776618000-1776625200@compagnie-de-comedie.de
SUMMARY:CHRISTIAN HAASE - WORTE\, WEIN UND WUNDER
DESCRIPTION:CHRISTIAN HAASE\nWORTE\, WEIN UND WUNDER \nEr ist ein musikalischer Seismograph der Seele\, der mit Witz und Wärme von den großen Dingen im Kleinen singt: Christian Haase (geb. 1981 in Leipzig) steht seit Jahren für handgemachte Musik mit Substanz. Der Künstler\, dessen Stimme seit 2011 auch die populäre Band „Die Seilschaft“ prägt\, wechselt bei seinen Solo-Auftritten mühelos zwischen tiefgründiger Lyrik und humorvollen Anekdoten. In Zeiten zunehmender Beschleunigung\, Polarisierung und Entfremdung wirken Haases Konzerte wie eine willkommene Insel.\nEr setzt auf Inhalt und Menschlichkeit\, vermeidet den erhobenen Zeigefinger und trifft so mit Liedern aus seinem umfangreichen Solo-Repertoire und Seilschaft-Klassikern den Nerv des Publikums.\nMit seiner markanten Stimme und charismatischen Schnoddrigkeit beweist Christian Haase auf der „Worte\, Wein und Wunder“- Tour einmal mehr\, dass Optimismus und Tiefgang kein Widerspruch sind. \nReservierungen: 0381/ 203 60 84\nKartenvorverkauf in der BÜHNE 602\nWarnowufer 55\, 18057 Rostock\nMo – Fr von 10:00 – 12:00 Uhr\nFr von 14:00 – 18:00 Uhr\n(Keine Kartenzahlung möglich) \noder Online:\nhttp://www.mvticket.de/b602shop \n 
URL:https://compagnie-de-comedie.de/event/christian-haase-worte-wein-und-wunder/
LOCATION:BÜHNE 602\, Warnowufer\, Rostock\, Mecklenburg-Vorpommern\, 18057\, Deutschland
ATTACH;FMTTYPE=image/jpeg:https://compagnie-de-comedie.de/wp-content/uploads/2025/12/Haase26quer_Bianca-Nuvola.jpg
END:VEVENT
END:VCALENDAR