BEGIN:VCALENDAR
VERSION:2.0
PRODID:-//Compagnie de Comédie - ECPv6.15.20//NONSGML v1.0//EN
CALSCALE:GREGORIAN
METHOD:PUBLISH
X-WR-CALNAME:Compagnie de Comédie
X-ORIGINAL-URL:https://compagnie-de-comedie.de
X-WR-CALDESC:Veranstaltungen für Compagnie de Comédie
REFRESH-INTERVAL;VALUE=DURATION:PT1H
X-Robots-Tag:noindex
X-PUBLISHED-TTL:PT1H
BEGIN:VTIMEZONE
TZID:Europe/Berlin
BEGIN:DAYLIGHT
TZOFFSETFROM:+0100
TZOFFSETTO:+0200
TZNAME:CEST
DTSTART:20250330T010000
END:DAYLIGHT
BEGIN:STANDARD
TZOFFSETFROM:+0200
TZOFFSETTO:+0100
TZNAME:CET
DTSTART:20251026T010000
END:STANDARD
BEGIN:DAYLIGHT
TZOFFSETFROM:+0100
TZOFFSETTO:+0200
TZNAME:CEST
DTSTART:20260329T010000
END:DAYLIGHT
BEGIN:STANDARD
TZOFFSETFROM:+0200
TZOFFSETTO:+0100
TZNAME:CET
DTSTART:20261025T010000
END:STANDARD
BEGIN:DAYLIGHT
TZOFFSETFROM:+0100
TZOFFSETTO:+0200
TZNAME:CEST
DTSTART:20270328T010000
END:DAYLIGHT
BEGIN:STANDARD
TZOFFSETFROM:+0200
TZOFFSETTO:+0100
TZNAME:CET
DTSTART:20271031T010000
END:STANDARD
BEGIN:DAYLIGHT
TZOFFSETFROM:+0100
TZOFFSETTO:+0200
TZNAME:CEST
DTSTART:20280326T010000
END:DAYLIGHT
BEGIN:STANDARD
TZOFFSETFROM:+0200
TZOFFSETTO:+0100
TZNAME:CET
DTSTART:20281029T010000
END:STANDARD
END:VTIMEZONE
BEGIN:VEVENT
DTSTART;TZID=Europe/Berlin:20260830T150000
DTEND;TZID=Europe/Berlin:20260830T170000
DTSTAMP:20260423T231138
CREATED:20260422T113235Z
LAST-MODIFIED:20260422T113235Z
UID:10001013-1788102000-1788109200@compagnie-de-comedie.de
SUMMARY:DER DIENER ZWEIER HERREN Frei nach der gleichnamigen Komödie von Carlo Goldoni - ZUM LETZTEN MAL in dieser Spielzeit!
DESCRIPTION:DER DIENER ZWEIER HERREN\nFrei nach der gleichnamigen Komödie von Carlo Goldoni\nBearbeitet von Eberhard Busch\nMit BERIT MÖLLER\, SYLWIA VON WILDBURG und PEER ROGGENDORF \nVenedig\, 1750. „Der Diener zweier Herren“ soll gespielt werden\, ein absoluter Klassiker und Höhepunkt der Commedia dell’arte. Doch leider wütet die Pest\, und nach und nach kommen die Darsteller abhanden. Also müssen die verbleibenden drei Schauspieler*innen in alle sieben Rollen schlüpfen\, damit Truffaldinos Geschichte gezeigt werden kann. Die beginnt damit\, dass eben jener durch einen Zufall zuerst zum Diener von Signore Rasponi wird und kurze Zeit später – getrieben von seinem leeren Magen – auch bei Florindo anheuert. Somit ist er Diener zweier Herren!\nDie Krux an der Sache ist\, dass die beiden verfeindet sind und sowieso wäre es äußerst unschicklich\, wenn bekannt würde\, dass Truffaldino zwei Herren gleichzeitig dient. Als zusätzlich herauskommt\, dass Signore Rasponi nicht der ist\, für den er\, beziehungsweise für die sie\, sich ausgibt\, ist das Chaos perfekt und während Truffaldino von einem Herrn zum nächsten hastet\, kommt das Publikum kaum noch aus dem Lachen. \nReservierungen: 0381/ 203 60 84\nKartenvorverkauf:\nMo – Fr von 10:00 – 12:00 Uhr\nFr von 14:00 – 18:00 Uhr\n(Keine Kartenzahlung möglich) \noder Online: http://www.mvticket.de/b602shop \nDie Theaterkasse ist 1 Stunde vor Vorstellungsbeginn geöffnet.
URL:https://compagnie-de-comedie.de/event/der-diener-zweier-herren-frei-nach-der-gleichnamigen-komoedie-von-carlo-goldoni-zum-letzten-mal-in-dieser-spielzeit/
LOCATION:Klostergarten\, Kloster zum Heiligen Kreuz Rostock\, Klosterhof 1\, Rostock\, Mecklenburg-Vorpommern\, 18055\, Deutschland
ATTACH;FMTTYPE=image/jpeg:https://compagnie-de-comedie.de/wp-content/uploads/2026/04/Plakat_Diener_A1_Final-Entwurf-Marcus-Moeller-1500.jpg
END:VEVENT
BEGIN:VEVENT
DTSTART;TZID=Europe/Berlin:20260901T200000
DTEND;TZID=Europe/Berlin:20260901T220000
DTSTAMP:20260423T231138
CREATED:20260415T093226Z
LAST-MODIFIED:20260415T093226Z
UID:10001006-1788292800-1788300000@compagnie-de-comedie.de
SUMMARY:MAX PROSA & MERET BECKER - on tour en miniature
DESCRIPTION:MAX PROSA & MERET BECKER\non tour en miniature \nMax Prosa ist Geschichtenerzähler. Hört man ihn alleine an der Gitarre oder am Klavier\, kann man das in seiner reinsten Form erleben. Er spielt neue und alte Lieder\, wie „Flügel“\, das schon 2012 entstand\, aber erst 2020 durch Egon Werlers Interpretation in der Castingshow „The Voice“ eine breite Masse erreichte. Außerdem das neue „Verschwende Dich“\, das als das Titellied des Kinofilms “15 Jahre” von Hannah Herzsprung interpretiert wurde und dadurch größere Bekanntheit erlangte. Hinter diesen an die Oberfläche dringenden Erfolgen sitzt und arbeitet Max Prosa seit Jahren unbeirrt an seinen Texten und Liedern\, spielt Konzerte und liest seine Gedichte\, die er im neuen Gedichtband “Als wir ein Sternbild waren” versammelt hat\, dessen Erstauflage in kürzester Zeit ausverkauft war. Die Lesenden und Zuhörenden werden zu einer Gemeinschaft\, um sie herum bildet sich eine Glocke\, die Raum und Zeit dehnt. Max erzählt von Müttern und Söhnen\, Königen und Dieben und natürlich von den großen Themen des Chansons: Vergänglichkeit\, Leidenschaft und Liebe. Immer auf seine eigene Art und so\, dass es jedem ans Herz geht. \nMeret Becker arbeitet als Filmschauspielerin und Chansonette seit sie 17 Jahre ist. Im Laufe der Zeit entfaltete sie sich zudem zur Entertainerin\, Musikerin\, Komponistin\, Musikproduzentin und künstlerischen Leiterin ihrer Konzertprogramme. Ihre Selbstbezeichnung ist darstellende Künstlerin\, Klangforscher und Reprisen-Clown. Sie ist Autodidaktin\, hat zahlreiche Auszeichnungen bekommen\, lebt in Berlin und Frankreich und ist alleinerziehende Mutter einer erwachsenen Tochter. Meret Becker komponiert und schreibt seit ca. 1995 eigene Musiken und Songs. Ihre Kompositionen hält sie meist einfach\, oft loop-artig\, um dann klanglich zu schichten. Oft benutzt sie feine leise Klänge\, wie Spieluhren\, Glockenspiel\, Flagolet-Töne\, Glasharfe oder Chelester. Neben mechanischen Instrumenten scheut sie sich nicht vor der elektronischen Bearbeitung. Sie liebt die Pausen und das Brüchige in der Musik. Trotzdem können sich ihre Kompositionen durchaus zu umfangreichenimposanten Stücken aufbauen. Sie bezeichnet ihre Musik u.a. als „optical music“\, weil sie musikalische Bilder baut\, ähnlich einer Filmmusik\, oder auch music en miniature\, was auf den von ihr gepflegten Minimalismus anspielt. Sich weitgehend selbst zu begleiten wird eine große Herausforderung und ein Spaß\, denn außer auf der singenden Säge ist sie auf keinem Instrument Virtuosin. Sie setzt die jeweiligen von ihr gespielten Instrumente eher zweckmäßig und gezielt als Klangfarbe ein. Nun also allein oder im Duett mit Max Prosa. \nReservierungen: 0381/ 203 60 84\nKartenvorverkauf:\nBÜHNE 602\, Warnowufer 55\, 18057 Rostock\nMo – Fr von 10:00 – 12:00 Uhr\nFr von 14:00 – 18:00 Uhr\n(Keine Kartenzahlung möglich) \noder Online:\nhttp://www.mvticket.de/b602shop \nDie Abendkasse öffnet eine Stunde vor Veranstaltungsbeginn.
URL:https://compagnie-de-comedie.de/event/max-prosa-meret-becker-on-tour-en-miniature/
LOCATION:Klostergarten\, Kloster zum Heiligen Kreuz Rostock\, Klosterhof 1\, Rostock\, Mecklenburg-Vorpommern\, 18055\, Deutschland
ATTACH;FMTTYPE=image/jpeg:https://compagnie-de-comedie.de/wp-content/uploads/2026/04/Max-Prosa-und-Meret-Becker-Foto-Max-und-Meret.jpg
END:VEVENT
BEGIN:VEVENT
DTSTART;VALUE=DATE:20261015
DTEND;VALUE=DATE:20261018
DTSTAMP:20260423T231138
CREATED:20260209T115701Z
LAST-MODIFIED:20260209T115802Z
UID:10000958-1792022400-1792281599@compagnie-de-comedie.de
SUMMARY:12. FREISPRUNG-THEATERFESTIVAL ROSTOCK 2026
DESCRIPTION:Nachwuchsfestival für Freie Theaterschaffende in M-V
URL:https://compagnie-de-comedie.de/event/12-freisprung-theaterfestival-rostock-2026/
LOCATION:BÜHNE 602\, Warnowufer\, Rostock\, Mecklenburg-Vorpommern\, 18057\, Deutschland
END:VEVENT
BEGIN:VEVENT
DTSTART;TZID=Europe/Berlin:20261029T150000
DTEND;TZID=Europe/Berlin:20261029T170000
DTSTAMP:20260423T231138
CREATED:20260209T113557Z
LAST-MODIFIED:20260212T133436Z
UID:10000957-1793286000-1793293200@compagnie-de-comedie.de
SUMMARY:"TOSKANA" - Multimediashow - es präsentiert und singt Thomas Mücke
DESCRIPTION:TOSKANA\nMultimediashow mit Thomas Mücke \nDer studierte Opern- und Chansonsänger Thomas W. Mücke und seine Frau Nina stellen mit ihren in brillantester 6 x 6 Bildqualität und einzigartiger Synthese von Wort\, Gesang und Musik inszenierten Mittelformat-Multimediashows seit über 30 Jahren deutschlandweit eine Institution dar. \nInsider meinen\, man könnte die Toskana\, die über ein Drittel der Kultur Europas ihr eigen nennt\, nie gründlich in sich aufnehmen.\nWir nahmen uns sieben Wochen für die traumhafteste Region Italiens Zeit und meinen\, es ist wieder ein Augen- und Ohrenschmaus entstanden. Wir führen Sie von den berühmtesten Marmorbrüchen der Welt – Carrara\, vorbei an der wunderschönen Mittelmeerküste entlang nach Pisa\, sechs Tage weilen wir in der Kulturwiege Europas – Florenz\, fotografieren uns durch das Herz der Toskana\, das Chianti-Gebiet (nicht ohne uns am Rotwein zu erlaben)\, sind in der Wirkungsstätte Leonardo da Vinci’s\, ebenso auch in der Sommerresidenz Napoleons auf der Insel Elba und schließlich beim bedeutendsten Spektakel der Toskana\, dem Palio (ein Pferdewettkampf seit dem Mittelalter) in Siena. \nAber das ist bei weitem nicht alles. Als Opernsänger werde ich Ihnen wiederum Volkslieder darbieten. Diesen Abend werden Sie bestimmt nicht bereuen.
URL:https://compagnie-de-comedie.de/event/toscana-multimediashow-es-praesentiert-und-singt-thomas-muecke/
LOCATION:BÜHNE 602\, Warnowufer\, Rostock\, Mecklenburg-Vorpommern\, 18057\, Deutschland
ATTACH;FMTTYPE=image/jpeg:https://compagnie-de-comedie.de/wp-content/uploads/2026/02/Toskana-Foto.jpg
END:VEVENT
BEGIN:VEVENT
DTSTART;TZID=Europe/Berlin:20261101T200000
DTEND;TZID=Europe/Berlin:20261101T220000
DTSTAMP:20260423T231138
CREATED:20260305T082549Z
LAST-MODIFIED:20260305T082549Z
UID:10000979-1793563200-1793570400@compagnie-de-comedie.de
SUMMARY:SIE DÜRFEN SICH WIEDER SETZEN - Kabarett von und mit RENÈ SYDOW
DESCRIPTION:SIE DÜRFEN SICH WIEDER SETZEN\nKabarett von und mit RENÈ SYDOW\nPreisträger Goldener Koggenzieher und Publikumspreis 2014 \nDie Welt ist im Krisenmodus. Der Wahnsinn dräut von allen Seiten. Was kann man dagegen tun? Die Probleme gehen lassen oder sich gehenlassen? Sich widersetzen oder einfach wieder setzen?\nRené Sydow\, hingerissen von Sprache und hergerissen von den politischen Entwicklungen sucht in seinem neuen Programm nach Antworten auf die großen Fragen unserer Zeit: Was ist passiert? Wer ist schuld? Und wo ist mein Anwalt? Herausgekommen ist ein hochkomischer philosophischer Exkurs über den Irrsinn unserer Welt und die absurden Zusammenhänge von Politik und Leben\, oder wie es andere nennen: feinstes Kabarett. \nReservierungen: 0381/ 203 60 84\nKartenvorverkauf in der BÜHNE 602\nWarnowufer 55\, 18057 Rostock\nMo – Fr von 10:00 – 12:00 Uhr\nFr von 14:00 – 18:00 Uhr\n(Keine Kartenzahlung möglich) \noder Online:\nhttp://www.mvticket.de/b602shop \nDie Theaterkasse öffnet eine Stunde vor Veranstaltungsbeginn.
URL:https://compagnie-de-comedie.de/event/sie-duerfen-sich-wieder-setzen-kabarett-von-und-mit-rene-sydow/
LOCATION:BÜHNE 602\, Warnowufer\, Rostock\, Mecklenburg-Vorpommern\, 18057\, Deutschland
ATTACH;FMTTYPE=image/jpeg:https://compagnie-de-comedie.de/wp-content/uploads/2026/03/RSydow-13-Foto-Dominic-Reichenbach-1500.jpg
END:VEVENT
BEGIN:VEVENT
DTSTART;TZID=Europe/Berlin:20261114T200000
DTEND;TZID=Europe/Berlin:20261114T220000
DTSTAMP:20260423T231138
CREATED:20260223T112421Z
LAST-MODIFIED:20260223T112421Z
UID:10000966-1794686400-1794693600@compagnie-de-comedie.de
SUMMARY:HARMONIE  - Musik und Kabarett mit MATTHIAS NINGEL
DESCRIPTION:HARMONIE\nMusik und Kabarett mit MATTHIAS NINGEL \nIn seinem fünften Soloprogramm geht es Ningel um das große Ganze: Um\nHarmonie – in Musik und Gesellschaft. Schon die alten Griechen hatten einen\nverwegenen Gedanken: Musikalische Harmonie und kosmische Harmonie basieren\nauf der gleichen Ordnung. Ningel führt diesen Gedanken fort und fragt sich\, wie es\num die Harmonie der Gegenwart steht. Warum fühlen sich die heutigen Zeiten so\naus dem Takt geraten an? Ist der Puls der Zeit nicht vielmehr ein Kammerflimmern?\nUnd warum können diese ganzen Menschenfeinde weder singen noch tanzen? Ob\nschmerzhafte Nierenkoliken\, versteckte Tragödien unterm eigenen Laminatboden\noder die Omnipräsenz von Bildschirmen im öffentlichen Raum: Mit Gesang\, Klavier\,\nSynthesizer und diversen Kleininstrumenten überträgt er gesellschaftliche\nPhänomene in Musik.\nTrotz vielfacher Auszeichnungen mit Kleinkunstpreisen weiß Matthias Ningel leider\nauch nicht wie man die Welt in Ordnung bringt. Aber als promovierter Musiker und\nKabarettist versucht er das Chaos zu ordnen bis ein stimmiges Ganzes heraustritt.\nEr entlockt den Dingen ihre Musikalität\, macht aus Wörtern Drumgrooves und\nschafft es sogar\, die kreischende Spargelschälmaschine zum Soloinstrument im\nWeltenorchester zu machen. Harmonie ist universelles Musikkabarett für alle\nGenerationen und eine Liebeserklärung an die Musik. \nReservierungen: 0381/ 203 60 84\nKartenvorverkauf in der BÜHNE 602\nWarnowufer 55\, 18057 Rostock\nMo – Fr von 10:00 – 12:00 Uhr\nFr von 14:00 – 18:00 Uhr\n(Keine Kartenzahlung möglich) \noder Online:\nhttp://www.mvticket.de/b602shop \nDie Theaterkasse öffnet eine Stunde vor Veranstaltungsbeginn.
URL:https://compagnie-de-comedie.de/event/harmonie-musik-und-kabarett-mit-matthias-ningel/
LOCATION:BÜHNE 602\, Warnowufer\, Rostock\, Mecklenburg-Vorpommern\, 18057\, Deutschland
ATTACH;FMTTYPE=image/jpeg:https://compagnie-de-comedie.de/wp-content/uploads/2026/02/Matthias-Ningel-Pressefoto-von-Simon-Diefenbach-1500.jpg
END:VEVENT
BEGIN:VEVENT
DTSTART;TZID=Europe/Berlin:20261121T200000
DTEND;TZID=Europe/Berlin:20261121T220000
DTSTAMP:20260423T231138
CREATED:20260223T113805Z
LAST-MODIFIED:20260223T113805Z
UID:10000967-1795291200-1795298400@compagnie-de-comedie.de
SUMMARY:FLINTENWEIB - Angst und Geld hatt´ ich noch nie - Musik-Kabarett mit ANDREA LIMMER
DESCRIPTION:FLINTENWEIB\nAngst und Geld hatt´ ich noch nie\nMusik-Kabarett mit ANDREA LIMMER \nDie Zeiten sind stürmisch!\n„Aber wir sind’s ja auch!“\, ruft Andrea Limmer tollkühn der Welt entgegen\nund lädt fröhlich ihre Satire-Flinte durch. Denn das niederbayrische Heavy Mädl lebt ganz nach dem Motto: Angst und Geld hatt‘ ich noch nie!\nUnd so startet die Ronja Räubertochter des Musik-Kabaretts mit ihrem neuen Programm „Flintenweib“ los und in die Welt hinaus\, um mit ihrer Ukulele Karla und viel Witz die Zuschauer in den wilden Süden zu entführen. – Auch wenn der manchmal im Westen\, Osten oder Norden liegt.\nDie Limmerin singt und erzählt von den Wahnwitzigkeiten in der großstädtischen Prärie\, von hochtechnisierten Yankees im mentalen Grenzland sowie feurigen Auseinandersetzungen mit Clownboys und -girls. Als Soundtrack dazu\, spielt das urwüchsige Energiebündel Country\, Rock ’n‘ Roll\, Blues und Folk in schönster bayrischer Manier.\nAndrea Limmer rockt die Bühne und reißt ihr Publikum jedes Mal aus dem\ngrauen\, kriseligen Alltag. Denn die quirlige Amazone begeistert mit großer\nSpielfreude\, schreiend lustigem Kampfgeist\, musikalischer Feuerkraft und einer gewaltigen Portion heiteren Gelassenheit.\nKommt rum und geht steil mit der scherzerfrischenden Partysanin – wie\n(l)immer in Stereo! \nReservierungen: 0381/ 203 60 84\nKartenvorverkauf in der BÜHNE 602\nWarnowufer 55\, 18057 Rostock\nMo – Fr von 10:00 – 12:00 Uhr\nFr von 14:00 – 18:00 Uhr\n(Keine Kartenzahlung möglich) \noder Online:\nhttp://www.mvticket.de/b602shop \nDie Theaterkasse öffnet eine Stunde vor Veranstaltungsbeginn.
URL:https://compagnie-de-comedie.de/event/flintenweib-angst-und-geld-hatt-ich-noch-nie-musik-kabarett-mit-andrea-limmer/
LOCATION:BÜHNE 602\, Warnowufer\, Rostock\, Mecklenburg-Vorpommern\, 18057\, Deutschland
ATTACH;FMTTYPE=image/jpeg:https://compagnie-de-comedie.de/wp-content/uploads/2026/02/Andrea-Limmer-16-Foto-Ludo-Vici.jpg
END:VEVENT
BEGIN:VEVENT
DTSTART;TZID=Europe/Berlin:20261126T200000
DTEND;TZID=Europe/Berlin:20261126T220000
DTSTAMP:20260423T231138
CREATED:20260115T102505Z
LAST-MODIFIED:20260115T102505Z
UID:10000942-1795723200-1795730400@compagnie-de-comedie.de
SUMMARY:TIMSKIS - WEIHNACHTSKONZERT
DESCRIPTION:TIMSKIS – Weihnachtskonzert \nZum diesjährigen Weihnachtsfest haben die „Timskis“ in die Welt gehorcht und Lieder\, weihnachtlich\, winterlich oder einfach nur schön aus entlegensten Winkeln wie Schätze zusammengetragen. Zwischen Russ-\, Is-\, Deutsch- und Irland spannt sich der musikalische Bilderbogen\, der mit timski-typischer Spielfreude entrollt wird.\nNatürlich sind beim traditionellen Timskiweihnachten musikalische Überraschungsgäste eingeladen und ein sangesfreudiges Publikum darf sich aufs Mitsingen freuen. \nReservierungen: 0381/ 203 60 84\nKartenvorverkauf in der BÜHNE 602\nWarnowufer 55\, 18057 Rostock\nMo – Fr von 10:00 – 12:00 Uhr\nFr von 14:00 – 18:00 Uhr\n(Keine Kartenzahlung möglich) \noder Online:\nhttp://www.mvticket.de/b602shop \nDie Theaterkasse öffnet eine Stunde vor Veranstaltungsbeginn.
URL:https://compagnie-de-comedie.de/event/timskis-weihnachtskonzert/2026-11-26/
LOCATION:BÜHNE 602\, Warnowufer\, Rostock\, Mecklenburg-Vorpommern\, 18057\, Deutschland
ATTACH;FMTTYPE=image/jpeg:https://compagnie-de-comedie.de/wp-content/uploads/2026/01/Foto-Neu-Timskis.jpg
END:VEVENT
BEGIN:VEVENT
DTSTART;TZID=Europe/Berlin:20261204T200000
DTEND;TZID=Europe/Berlin:20261204T220000
DTSTAMP:20260423T231138
CREATED:20260224T104843Z
LAST-MODIFIED:20260224T132418Z
UID:10000972-1796414400-1796421600@compagnie-de-comedie.de
SUMMARY:WEIHNACHTEN – EIN ALTER SACK BRINGT‘S NOCH - Ensemble Weltkritik deluxe – Kabarett
DESCRIPTION:WEIHNACHTEN – EIN ALTER SACK BRINGT‘S NOCH\nEnsemble Weltkritik deluxe – Kabarett\nGewinner „Silberner Koggenzieher“ 2007 \nWer zu Weihnachten etwas bekommen will\, muss ein Gedicht aufsagen oder ein Lied singen. Keine Panik! Das übernehmen wir für Sie. Und freuen uns auf Ihre Geschenke. Das Ensemble Weltkritik stellt Weihnachten auf den Prüfstand: Wie kann das Fest optimiert werden? Braucht ein Wichtel den Mindestlohn? Wann geht das Fest der Liebe endlich an die Börse? Und kann der Weihnachtsmann nach dem Bescheren nicht gleich wieder was in seinem Sack mitnehmen\, z.B. Tante Gisela?!\nTrotz aller Probleme sagen wir „Ja!“ zu Weihnachten und laden Sie alle ein. Bei uns bekommt jeder ein warmes Plätzchen. Weltkritik deluxe – das sind Bettina Prokert und Maxim Hofmann aus Leipzig. Das Duo ist seit 18 Jahren deutschlandweit\, in Österreich und in der Schweiz unterwegs\, hat bereits 10 Kabarettpreise eingeheimst und die Presse schreibt: „Kurzweilig\, urkomisch\, lachtränentreibend.“\nDie Zuschauer sagen: „Das mit der Musik hat meinem Mann am besten gefallen.“ oder auch „Witzig.“ Weltkritik – „Stimmung ist unser zweiter Vorname!“ \nReservierungen: 0381/ 203 60 84\nKartenvorverkauf:\nBÜHNE 602\, Warnowufer 55\nMo – Fr von 10:00 – 12:00 Uhr\nFr von 14:00 – 18:00 Uhr\n(Keine Kartenzahlung möglich) \noder Online:\nhttp://www.mvticket.de/b602shop \nDie Theaterkasse ist 1 Stunde vor Vorstellungsbeginn geöffnet.
URL:https://compagnie-de-comedie.de/event/weihnachten-ein-alter-sack-bringts-noch-ensemble-weltkritik-deluxe-kabarett-2/
LOCATION:BÜHNE 602\, Warnowufer\, Rostock\, Mecklenburg-Vorpommern\, 18057\, Deutschland
ATTACH;FMTTYPE=image/jpeg:https://compagnie-de-comedie.de/wp-content/uploads/2026/02/Ensemble-Weltkritik-Weihnachten-ein-alter-Sack-bringts-noch-Foto-Markus-Tanger-1500.jpg
END:VEVENT
BEGIN:VEVENT
DTSTART;TZID=Europe/Berlin:20261205T200000
DTEND;TZID=Europe/Berlin:20261205T220000
DTSTAMP:20260423T231138
CREATED:20260115T102505Z
LAST-MODIFIED:20260115T102505Z
UID:10000943-1796500800-1796508000@compagnie-de-comedie.de
SUMMARY:TIMSKIS - WEIHNACHTSKONZERT
DESCRIPTION:TIMSKIS – Weihnachtskonzert \nZum diesjährigen Weihnachtsfest haben die „Timskis“ in die Welt gehorcht und Lieder\, weihnachtlich\, winterlich oder einfach nur schön aus entlegensten Winkeln wie Schätze zusammengetragen. Zwischen Russ-\, Is-\, Deutsch- und Irland spannt sich der musikalische Bilderbogen\, der mit timski-typischer Spielfreude entrollt wird.\nNatürlich sind beim traditionellen Timskiweihnachten musikalische Überraschungsgäste eingeladen und ein sangesfreudiges Publikum darf sich aufs Mitsingen freuen. \nReservierungen: 0381/ 203 60 84\nKartenvorverkauf in der BÜHNE 602\nWarnowufer 55\, 18057 Rostock\nMo – Fr von 10:00 – 12:00 Uhr\nFr von 14:00 – 18:00 Uhr\n(Keine Kartenzahlung möglich) \noder Online:\nhttp://www.mvticket.de/b602shop \nDie Theaterkasse öffnet eine Stunde vor Veranstaltungsbeginn.
URL:https://compagnie-de-comedie.de/event/timskis-weihnachtskonzert/2026-12-05/
LOCATION:BÜHNE 602\, Warnowufer\, Rostock\, Mecklenburg-Vorpommern\, 18057\, Deutschland
ATTACH;FMTTYPE=image/jpeg:https://compagnie-de-comedie.de/wp-content/uploads/2026/01/Foto-Neu-Timskis.jpg
END:VEVENT
BEGIN:VEVENT
DTSTART;TZID=Europe/Berlin:20261211T200000
DTEND;TZID=Europe/Berlin:20261211T220000
DTSTAMP:20260423T231138
CREATED:20260113T085500Z
LAST-MODIFIED:20260113T085500Z
UID:10000936-1797019200-1797026400@compagnie-de-comedie.de
SUMMARY:SCHWARZE GRÜTZE - ENDSTATION PFANNE\, WAS BLEIBT IST EINE GÄNSEHAUT! - Musikkabarett
DESCRIPTION:Das Kult-Weihnachtsprogramm\nKabarett Schwarze Grütze\nGewinner „Goldener Koggenzieher 2023“ und Publikumspreis \nAlle Jahre wieder servieren die beiden Herren der Schwarzen Grütze ihren ganz\nspeziellen schwarzhumorigen Liederpunsch. Ganz ohne weihnachtlichen Kitsch\,\nganz ohne süßlichen Zuckerguss machen Stefan Klucke und Dirk Pursche das\,\nwas sie am besten können: Sie erzählen bitterböse und zum Schreien komische\nGeschichten rund um das Fest. Als Bühnenbild dient ihnen ein Haus\, dessen Fenster\nsich wie beim Adventskalender öffnen lassen. Und mit jedem geöffneten Fenster\nöffnet sich der Blick auf eine neue skurrile Situation\, einen neuen bitterkomischen\nAbgrund.\nEs ist stark\, wie sich am Schluss alle Fäden der Geschichten miteinander verknüpfen\, selten wurde uns auf der besinnungslosen Jagd nach der Besinnlichkeit so witzig der\nSpiegel vorgehalten. Das Programm „Endstation Pfanne\, was bleibt ist eine Gänsehaut“ ändert sich von Jahr zu Jahr nur geringfügig\, der Torso bleibt stets gleich. Dennoch strömen die Fans alle Jahre wieder aufs Neue im Dezember in Scharen herbei.\nUnd wenn schon die Kinder der Gäste anrührend mitsingen: „Ich habe einen Weihnachtsmann erschossen…“\, dann kann man das durchaus als Kult bezeichnen. \n 
URL:https://compagnie-de-comedie.de/event/schwarze-gruetze-endstation-pfanne-was-bleibt-ist-eine-gaensehaut-musikkabarett/2026-12-11/
LOCATION:BÜHNE 602\, Warnowufer\, Rostock\, Mecklenburg-Vorpommern\, 18057\, Deutschland
ATTACH;FMTTYPE=image/jpeg:https://compagnie-de-comedie.de/wp-content/uploads/2026/01/Schwarze-Gruetze-Endstation_Quer_Presse-Foto-Schwarze-Gruetze-1500.jpg
END:VEVENT
BEGIN:VEVENT
DTSTART;TZID=Europe/Berlin:20261212T200000
DTEND;TZID=Europe/Berlin:20261212T220000
DTSTAMP:20260423T231138
CREATED:20260113T085500Z
LAST-MODIFIED:20260113T085500Z
UID:10000937-1797105600-1797112800@compagnie-de-comedie.de
SUMMARY:SCHWARZE GRÜTZE - ENDSTATION PFANNE\, WAS BLEIBT IST EINE GÄNSEHAUT! - Musikkabarett
DESCRIPTION:Das Kult-Weihnachtsprogramm\nKabarett Schwarze Grütze\nGewinner „Goldener Koggenzieher 2023“ und Publikumspreis \nAlle Jahre wieder servieren die beiden Herren der Schwarzen Grütze ihren ganz\nspeziellen schwarzhumorigen Liederpunsch. Ganz ohne weihnachtlichen Kitsch\,\nganz ohne süßlichen Zuckerguss machen Stefan Klucke und Dirk Pursche das\,\nwas sie am besten können: Sie erzählen bitterböse und zum Schreien komische\nGeschichten rund um das Fest. Als Bühnenbild dient ihnen ein Haus\, dessen Fenster\nsich wie beim Adventskalender öffnen lassen. Und mit jedem geöffneten Fenster\nöffnet sich der Blick auf eine neue skurrile Situation\, einen neuen bitterkomischen\nAbgrund.\nEs ist stark\, wie sich am Schluss alle Fäden der Geschichten miteinander verknüpfen\, selten wurde uns auf der besinnungslosen Jagd nach der Besinnlichkeit so witzig der\nSpiegel vorgehalten. Das Programm „Endstation Pfanne\, was bleibt ist eine Gänsehaut“ ändert sich von Jahr zu Jahr nur geringfügig\, der Torso bleibt stets gleich. Dennoch strömen die Fans alle Jahre wieder aufs Neue im Dezember in Scharen herbei.\nUnd wenn schon die Kinder der Gäste anrührend mitsingen: „Ich habe einen Weihnachtsmann erschossen…“\, dann kann man das durchaus als Kult bezeichnen. \n 
URL:https://compagnie-de-comedie.de/event/schwarze-gruetze-endstation-pfanne-was-bleibt-ist-eine-gaensehaut-musikkabarett/2026-12-12/
LOCATION:BÜHNE 602\, Warnowufer\, Rostock\, Mecklenburg-Vorpommern\, 18057\, Deutschland
ATTACH;FMTTYPE=image/jpeg:https://compagnie-de-comedie.de/wp-content/uploads/2026/01/Schwarze-Gruetze-Endstation_Quer_Presse-Foto-Schwarze-Gruetze-1500.jpg
END:VEVENT
BEGIN:VEVENT
DTSTART;TZID=Europe/Berlin:20261219T200000
DTEND;TZID=Europe/Berlin:20261219T220000
DTSTAMP:20260423T231138
CREATED:20260115T102505Z
LAST-MODIFIED:20260115T102505Z
UID:10000944-1797710400-1797717600@compagnie-de-comedie.de
SUMMARY:TIMSKIS - WEIHNACHTSKONZERT
DESCRIPTION:TIMSKIS – Weihnachtskonzert \nZum diesjährigen Weihnachtsfest haben die „Timskis“ in die Welt gehorcht und Lieder\, weihnachtlich\, winterlich oder einfach nur schön aus entlegensten Winkeln wie Schätze zusammengetragen. Zwischen Russ-\, Is-\, Deutsch- und Irland spannt sich der musikalische Bilderbogen\, der mit timski-typischer Spielfreude entrollt wird.\nNatürlich sind beim traditionellen Timskiweihnachten musikalische Überraschungsgäste eingeladen und ein sangesfreudiges Publikum darf sich aufs Mitsingen freuen. \nReservierungen: 0381/ 203 60 84\nKartenvorverkauf in der BÜHNE 602\nWarnowufer 55\, 18057 Rostock\nMo – Fr von 10:00 – 12:00 Uhr\nFr von 14:00 – 18:00 Uhr\n(Keine Kartenzahlung möglich) \noder Online:\nhttp://www.mvticket.de/b602shop \nDie Theaterkasse öffnet eine Stunde vor Veranstaltungsbeginn.
URL:https://compagnie-de-comedie.de/event/timskis-weihnachtskonzert/2026-12-19/
LOCATION:BÜHNE 602\, Warnowufer\, Rostock\, Mecklenburg-Vorpommern\, 18057\, Deutschland
ATTACH;FMTTYPE=image/jpeg:https://compagnie-de-comedie.de/wp-content/uploads/2026/01/Foto-Neu-Timskis.jpg
END:VEVENT
BEGIN:VEVENT
DTSTART;TZID=Europe/Berlin:20270403T200000
DTEND;TZID=Europe/Berlin:20270403T220000
DTSTAMP:20260423T231138
CREATED:20260410T120837Z
LAST-MODIFIED:20260410T120837Z
UID:10001005-1806782400-1806789600@compagnie-de-comedie.de
SUMMARY:MIEDREICH & SYDOW - Männer von Welt - Kabarett mit Christian Miedreich und René Sydow
DESCRIPTION:MIEDREICH & SYDOW – Männer von Welt\nWas ist deutsch? Goethe und Schiller? Merz und April? Hinz und Kunz?\nKabarett mit Christian Miedreich und René Sydow \nWo Dichter und Denker verstummt sind\, müssen die Satiriker eingreifen und eine Bestandsaufnahme der deutschen Seele liefern. Christian Miedreich und René Sydow spielen in ihrem ersten gemeinsamen Kabarettprogramm deutsche Archetypen und solche\, die es werden wollen. Vom schwäbischen Familienvater bis zum Kioskbesitzer aus dem Ruhrpott\, vom Schönheitschirurgen bis zum Taxifahrer aus – nun – wahrscheinlich jeder Großstadt. Vielleicht schauen auch historische Prominente vorbei. Vielleicht wird es entlarvend\, vielleicht bitter\, so oder so wird es politisches Kabarett mit deutscher Gründlichkeit\, aber ohne Deutschtümelei\, schließlich sind die beiden Satiriker ja Männer von Welt.\nUnd wenn Sie als Nicht-Deutscher das Gefühl haben\, dass Ihnen diese Typen bekannt vorkommen\, dann wäre es möglich\, dass wir Europäer vielleicht doch mehr miteinander gemein haben\, als es auf den ersten Blick scheint. \nReservierungen: 03 81/ 203 60 84\nKartenvorverkauf:\nBÜHNE 602\, Warnowufer 55\, Rostock\nMo – Fr von 10:00 – 12:00 Uhr\nFr von 14:00 – 18:00 Uhr\n(Keine Kartenzahlung möglich) \noder Online:\nhttp://www.mvticket.de/b602shop \nAbendkasse ist 1 Stunde vor Vorstellungsbeginn geöffnet
URL:https://compagnie-de-comedie.de/event/miedreich-sydow-maenner-von-welt-kabarett-mit-christian-miedreich-und-rene-sydow/
LOCATION:BÜHNE 602\, Warnowufer\, Rostock\, Mecklenburg-Vorpommern\, 18057\, Deutschland
ATTACH;FMTTYPE=image/jpeg:https://compagnie-de-comedie.de/wp-content/uploads/2026/04/Miedreich-und-Sydow-2-Foto-Steffen-Suuck-1500.jpg
END:VEVENT
END:VCALENDAR