BEGIN:VCALENDAR
VERSION:2.0
PRODID:-//Compagnie de Comédie - ECPv6.15.20//NONSGML v1.0//EN
CALSCALE:GREGORIAN
METHOD:PUBLISH
X-WR-CALNAME:Compagnie de Comédie
X-ORIGINAL-URL:https://compagnie-de-comedie.de
X-WR-CALDESC:Veranstaltungen für Compagnie de Comédie
REFRESH-INTERVAL;VALUE=DURATION:PT1H
X-Robots-Tag:noindex
X-PUBLISHED-TTL:PT1H
BEGIN:VTIMEZONE
TZID:Europe/Berlin
BEGIN:DAYLIGHT
TZOFFSETFROM:+0100
TZOFFSETTO:+0200
TZNAME:CEST
DTSTART:20230326T010000
END:DAYLIGHT
BEGIN:STANDARD
TZOFFSETFROM:+0200
TZOFFSETTO:+0100
TZNAME:CET
DTSTART:20231029T010000
END:STANDARD
BEGIN:DAYLIGHT
TZOFFSETFROM:+0100
TZOFFSETTO:+0200
TZNAME:CEST
DTSTART:20240331T010000
END:DAYLIGHT
BEGIN:STANDARD
TZOFFSETFROM:+0200
TZOFFSETTO:+0100
TZNAME:CET
DTSTART:20241027T010000
END:STANDARD
BEGIN:DAYLIGHT
TZOFFSETFROM:+0100
TZOFFSETTO:+0200
TZNAME:CEST
DTSTART:20250330T010000
END:DAYLIGHT
BEGIN:STANDARD
TZOFFSETFROM:+0200
TZOFFSETTO:+0100
TZNAME:CET
DTSTART:20251026T010000
END:STANDARD
END:VTIMEZONE
BEGIN:VEVENT
DTSTART;TZID=Europe/Berlin:20240419T200000
DTEND;TZID=Europe/Berlin:20240419T220000
DTSTAMP:20260419T162008
CREATED:20231212T130356Z
LAST-MODIFIED:20240124T100532Z
UID:10000337-1713556800-1713564000@compagnie-de-comedie.de
SUMMARY:Der Urknall - The Big Bang - Comedy-Musical
DESCRIPTION:Der Urknall – The Big Bang\nComedy-Musical für zwei singende Schauspieler\nvon Boyd Graham . Musik von Jed Feuer\nMit: Marcus Möller und Peer Roggendorf\, an den Tasten: Philipp Krätzer \nKomponist und Autor nutzen das Apartment ihrer New Yorker Freunde in der Park Avenue\, um zusammen mit einem Pianisten für ihr geplantes Broadway-Musical Sponsoren zu gewinnen.\nIhre Show mit den höchsten Produktionskosten aller Zeiten soll in zwölf Stunden die ganze Weltgeschichte präsentieren: vom Urknall bis Woodstock. Sie haben potentielle Geldgeber in das Apartment eingeladen und geben ihnen in 90 Minuten eine Probevorstellung ihrer Gesangs- und Tanzkünste.\nDie Zuschauer sind die möglichen Investoren. Umworben von zwei Schauspielern\, die nichts auslassen\, um ihr Publikum zu überzeugen: egal ob als Adam und Eva\, Isabella und Kolumbus\, Napoleon und Eva Braun oder als Nofretete\, Jungfrau Maria\, Mutter Ghandi und Löwe im römischen Kolosseum.\nKein Fettnäpfchen wird gemieden\, kein Kalauer bleibt ungenutzt. Scherz\, Satire und schiefere Bedeutung geben sich die Klinke in die Hand: Ein 8.000-Personen-Musical für zwei singende Schauspieler\, für ein komödiantisches Feuerwerk – eben ein\nU R K N A L L! \nReservierungen: 0381/ 203 60 84\nKartenvorverkauf:\nMo – Fr von 10:00 – 12:00 Uhr\nFr von 14:00 – 18:00 Uhr\n(Keine Kartenzahlung möglich) \nhttp://www.mvticket.de/b602shop \nDie Theaterkasse ist 1 Stunde vor Vorstellungsbeginn geöffnet.
URL:https://compagnie-de-comedie.de/event/der-urknall-the-big-bang-comedy-musical-2/2024-04-19/
LOCATION:BÜHNE 602\, Warnowufer\, Rostock\, Mecklenburg-Vorpommern\, 18057\, Deutschland
ATTACH;FMTTYPE=image/jpeg:https://compagnie-de-comedie.de/wp-content/uploads/2023/12/Urknall-Peer-Roggendorf-Markus-Moeller-Caesar-Fotograf-Frank-Neumann-1500.jpg
END:VEVENT
BEGIN:VEVENT
DTSTART;TZID=Europe/Berlin:20240420T200000
DTEND;TZID=Europe/Berlin:20240420T220000
DTSTAMP:20260419T162008
CREATED:20240105T111603Z
LAST-MODIFIED:20240105T124741Z
UID:10000323-1713643200-1713650400@compagnie-de-comedie.de
SUMMARY:VENEDIG IM SCHNEE
DESCRIPTION:Venedig im Schnee \nKomödie von Gilles Dyrek \nAus dem Französischen von Annette und Paul Bäcker \nRegie: Angelika Zacek \nEs spielen: Angela Schlabinger\, Lydia Wilke\, Marcus Möller und Peer Roggendorf \n  \nNatalie und Jean-Luc sind sehr verliebt. Die eine Hälfte des Tages sind sie damit beschäftigt ihre Hochzeit zu planen\, ihre Pariser Altbauwohnung zu sanieren und die andere sich zu liebkosen. \nAm Abend erwarten sie Christophe und seine Freundin Patricia zum Essen. Jean-Luc hat den Studienfreund nach Jahren in der Stadt getroffen und spontan eingeladen. \nPatricia hat keine Lust von ihrem Freund\, mit dem sie sich heftig gestritten hat\, zu einem Abendessen mitgeschleppt zu werden\, bei dem sie niemanden kennt. Wütend beschließt sie\, den ganzen Abend kein Wort von sich zu geben\, was dazu führt\, dass die Gastgeber sie für eine Ausländerin halten. Als Patricia das Missverständnis begreift\, steigt sie mit Vergnügen in das perfide Spiel ein\,  erfindet eine Fantasiesprache und behauptet aus einem Bürgerkriegsland geflohen zu sein. Während Christophe vor Scham am liebsten im Boden versinken möchte\, kann Patricia in der absurden Situation wieder lächeln und die Gespräche zu viert verlaufen komplett anders als erwartet … \n  \nReservierungen: 0381/ 203 60 84 \nKartenvorverkauf: \nMo – Fr von 10:00 – 12:00 Uhr \nFr von 14:00 – 18:00 Uhr \n(Keine Kartenzahlung möglich) \n  \noder Online: \nhttp://www.mvticket.de/b602shop \n  \nDie Theaterkasse öffnet eine Stunde vor Veranstaltungsbeginn. \n 
URL:https://compagnie-de-comedie.de/event/venedig-im-schnee-4/2024-04-20/
LOCATION:BÜHNE 602\, Warnowufer\, Rostock\, Mecklenburg-Vorpommern\, 18057\, Deutschland
ATTACH;FMTTYPE=image/jpeg:https://compagnie-de-comedie.de/wp-content/uploads/2023/08/Venedig-im-Schnee-Alle-11-Foto-Frank-Neumann-1500.jpg
END:VEVENT
BEGIN:VEVENT
DTSTART;TZID=Europe/Berlin:20240421T180000
DTEND;TZID=Europe/Berlin:20240421T210000
DTSTAMP:20260419T162008
CREATED:20231225T195619Z
LAST-MODIFIED:20231225T195619Z
UID:10000315-1713722400-1713733200@compagnie-de-comedie.de
SUMMARY:DRACULA - Theater am Ring
DESCRIPTION:Dracula\nSchauspiel von Uwe Grün nach dem Roman von Bram Stoker\nmit der Musik von Erik Malter\nTheater am Ring \nIn dieser Spielzeit lässt das Theater am Ring den berühmtesten Vampir der Literaturgeschichte Dracula lebendig werden. Dabei bleibt das Schauspiel dicht am Originaltext von Bram Stoker und will dem Publikum einen schaurig schönen Abend präsentieren.\nJonathan Harker reist als junger Anwalt nach Transsylvanien und lernt den alten Grafen Dracula kennen. Eigenartig geht es zu in dessen Schloss\, welches Jonathan nicht verlassen darf. Noch ahnt er nicht\, welche Tragödie sein Besuch auslöst. \nReservierungen: 0381/ 203 60 84\nKartenvorverkauf:\nMo – Fr von 10:00 – 12:00 Uhr\nFr von 14:00 – 18:00 Uhr\n(Keine Kartenzahlung möglich) \noder Online:\nhttp://www.mvticket.de/b602shop \nDie Abendkasse öffnet eine Stunde vor Veranstaltungsbeginn.
URL:https://compagnie-de-comedie.de/event/dracula-theater-am-ring/2024-04-21/
LOCATION:BÜHNE 602\, Warnowufer\, Rostock\, Mecklenburg-Vorpommern\, 18057\, Deutschland
ATTACH;FMTTYPE=image/jpeg:https://compagnie-de-comedie.de/wp-content/uploads/2023/12/Dracula-6-Foto-Theater-am-Ring.jpeg
END:VEVENT
BEGIN:VEVENT
DTSTART;TZID=Europe/Berlin:20240426T080000
DTEND;TZID=Europe/Berlin:20240426T170000
DTSTAMP:20260419T162008
CREATED:20240124T101139Z
LAST-MODIFIED:20240711T103137Z
UID:10000338-1714118400-1714150800@compagnie-de-comedie.de
SUMMARY:WAS WAR UND WAS WIRD - Von Lutz Hübner und Sarah Nemitz - Mit Katja Klemt und Peer Roggendorf
DESCRIPTION:WAS WAR UND WAS WIRD\nVon Lutz Hübner und Sarah Nemitz\nMit Katja Klemt und Peer Roggendorf \nAnke und Theo\, ein Paar mit fast erwachsenen Kindern\, sitzen im Theater. Noch bevor der Vorhang hochgehen kann\, gibt es Streit: Um die „Geldverschwendung“ fürs Programmheft\, um die Unfähigkeit\, Parklücken von Einfahrten zu unterscheiden\, ein Ehestreit\, wie er täglich in jedem Zuschauerraum vorkommen kann.\nDoch was\, wenn plötzlich der Spot auf einen der beiden fällt und sie ihre Gedanken\, Wünsche und Erinnerungen ungestört und ohne Unterbrechung aussprechen können? Im Bühnenlicht blickt es sich anders auf das eigene Leben. Nun steht Anke und Theo der ganze Zauber des Theaters zur Verfügung\, sie können die Rollen wechseln\, in der Zeit springen\, Erfundenes in Erinnerungen mischen\, Distanz zum eigenen Charakter einnehmen.\nDurch den liebevollen Blick auf die Charaktere werden hinter den Alltagssituationen schnell die großen Fragen sichtbar. Was ist es wert\, erinnert zu werden und wie erzählt man (sich) selbst seine eigene Geschichte? Anhand von Krisen\, Glücksmomenten\, überstandenen Kindergeburtstagen\, Urlauben? Was bleibt\, was prägt\, was hat mehr Gewicht? Was wäre gewesen\, wenn …? Soll es das jetzt wirklich schon gewesen sein? Und könnte man – wie hier – den Regler in Richtung Zukunft drehen: Würde man wissen wollen\, wie es weiter geht und wann es aufhört? \nReservierungen: Tel.: 0381/ 203 60 84\nBÜHNE 602\, Warnowufer 55\, 18057 Rostock\nKartenvorverkauf:\nMo – Fr von 10:00 – 12:00 Uhr\nFr von 14:00 – 18:00 Uhr\n(Keine Kartenzahlung möglich) \noder online: http://www.mvticket.de/b602shop \nDie Theaterkasse ist 1 Stunde vor Veranstaltungsbeginn geöffnet.
URL:https://compagnie-de-comedie.de/event/was-war-und-was-wird-von-lutz-huebner-und-sarah-nemitz-mit-katja-klemt-und-peer-roggendorf/2024-04-26/
LOCATION:BÜHNE 602\, Warnowufer\, Rostock\, Mecklenburg-Vorpommern\, 18057\, Deutschland
ATTACH;FMTTYPE=image/jpeg:https://compagnie-de-comedie.de/wp-content/uploads/2024/01/Was-war-und-was-wird-P.-Roggendorf-K.-Klemt-10-Foto-Frank-Neumann-1500.jpg
END:VEVENT
BEGIN:VEVENT
DTSTART;TZID=Europe/Berlin:20240427T200000
DTEND;TZID=Europe/Berlin:20240427T220000
DTSTAMP:20260419T162008
CREATED:20230713T075409Z
LAST-MODIFIED:20231027T065939Z
UID:10000128-1714248000-1714255200@compagnie-de-comedie.de
SUMMARY:RENÈ SYDOW - IN GANZEN SÄTZEN - Kabarett
DESCRIPTION:IN GANZEN SÄTZEN\nKabarett mit René Sydow\nPreisträger Goldener Koggenzieher und Publikumspreis 2014 \nEs könnte einem die Sprache verschlagen: Die Alten jammern\, die Jungen tweeten\, die Woken gendern\, die Assis prollen\, die Rechte spaltet\, die Linke auch. Nur die Klugen sind verstummt. Damit ist jetzt Schluss!\nDeutschlands sprachmächtigster Kabarettist spricht nun an und aus\, was in unserer Sprache und Gesellschaft verschleiert\, totgeschwiegen und zerredet wird. Er seziert Herrschaftssprache und Internetgebrabbel\, lässt heiße Luft aus Schaumschlägern und Wichtigtuern\, entlarvt Phrasendrescher und Wortverbieter. Wo andere faseln\, redet er Tacheles. Wo gelabert wird\, stellt er fest. Statt Blabla gibt es Gedanken. Statt Larifari: Sinn.\nUnd wenn der Zuschauer sich fragt: „Darf man das so sagen?“\, dann antwortet der Kabarettist: „Ja. Aber nur in ganzen Sätzen.“ \nReservierungen: 0381/ 203 60 84\nKartenvorverkauf:\nMo – Fr von 10:00 – 12:00 Uhr\nFr von 14:00 – 18:00 Uhr\n(Keine Kartenzahlung möglich) \noder Online:\nhttp://www.mvticket.de/b602shop \nDie Abendkasse öffnet eine Stunde vor Veranstaltungsbeginn.
URL:https://compagnie-de-comedie.de/event/rene-sydow-in-ganzen-saetzen-kabarett/2024-04-27/
LOCATION:BÜHNE 602\, Warnowufer\, Rostock\, Mecklenburg-Vorpommern\, 18057\, Deutschland
ATTACH;FMTTYPE=image/jpeg:https://compagnie-de-comedie.de/wp-content/uploads/2023/07/Rene-Sydow-In-ganzen-Saetzen-Pressefoto-6-c-F.-Badenius-1500.jpg
END:VEVENT
END:VCALENDAR