BEGIN:VCALENDAR
VERSION:2.0
PRODID:-//Compagnie de Comédie - ECPv6.15.20//NONSGML v1.0//EN
CALSCALE:GREGORIAN
METHOD:PUBLISH
X-ORIGINAL-URL:https://compagnie-de-comedie.de
X-WR-CALDESC:Veranstaltungen für Compagnie de Comédie
REFRESH-INTERVAL;VALUE=DURATION:PT1H
X-Robots-Tag:noindex
X-PUBLISHED-TTL:PT1H
BEGIN:VTIMEZONE
TZID:Europe/Berlin
BEGIN:DAYLIGHT
TZOFFSETFROM:+0100
TZOFFSETTO:+0200
TZNAME:CEST
DTSTART:20230326T010000
END:DAYLIGHT
BEGIN:STANDARD
TZOFFSETFROM:+0200
TZOFFSETTO:+0100
TZNAME:CET
DTSTART:20231029T010000
END:STANDARD
BEGIN:DAYLIGHT
TZOFFSETFROM:+0100
TZOFFSETTO:+0200
TZNAME:CEST
DTSTART:20240331T010000
END:DAYLIGHT
BEGIN:STANDARD
TZOFFSETFROM:+0200
TZOFFSETTO:+0100
TZNAME:CET
DTSTART:20241027T010000
END:STANDARD
BEGIN:DAYLIGHT
TZOFFSETFROM:+0100
TZOFFSETTO:+0200
TZNAME:CEST
DTSTART:20250330T010000
END:DAYLIGHT
BEGIN:STANDARD
TZOFFSETFROM:+0200
TZOFFSETTO:+0100
TZNAME:CET
DTSTART:20251026T010000
END:STANDARD
END:VTIMEZONE
BEGIN:VEVENT
DTSTART;TZID=Europe/Berlin:20240619T203000
DTEND;TZID=Europe/Berlin:20240619T223000
DTSTAMP:20260424T011527
CREATED:20240412T115810Z
LAST-MODIFIED:20240503T124945Z
UID:10000395-1718829000-1718836200@compagnie-de-comedie.de
SUMMARY:ALICE IM WUNDERLAND - Theatergruppe Freigeister
DESCRIPTION:ALICE IM WUNDERLAND\nNach dem Buch von Lewis Carroll\nTheatergruppe Freigeister \nEben noch langweilte sich Alice im Gras\, dann hüpft plötzlich ein weißes Kaninchen sehr\neilig an ihr vorbei. Ohne darüber nachzudenken\, stürzt sie diesem in den Kaninchenbau\nhinterher und landet mitten im Wunderland. Hier herrscht die unberechenbare rote Königin und jeder\, der sich ihr widersetzt\, riskiert Kopf und Kragen. Doch zwischen Hutmacher\, Grinsekatze und vielen weiteren Absurditäten\, kann der mutigen Alice eine Tyrannin nicht so schnell schocken. \nReservierungen: 0381/ 203 60 84\nKartenvorverkauf:\nBÜHNE 602\, Warnowufer 55\, 18057 Rostock\nMo – Fr von 10:00 – 12:00 Uhr\nFr von 14:00 – 18:00 Uhr\n(Keine Kartenzahlung möglich) \noder Online:\nhttp://www.mvticket.de/b602shop \nDie Abendkasse öffnet eine Stunde vor Veranstaltungsbeginn.
URL:https://compagnie-de-comedie.de/event/alice-im-wunderland-theatergruppe-freigeister/2024-06-19/2/
LOCATION:Klostergarten\, Kloster zum Heiligen Kreuz Rostock\, Klosterhof 1\, Rostock\, Mecklenburg-Vorpommern\, 18055\, Deutschland
ATTACH;FMTTYPE=image/jpeg:https://compagnie-de-comedie.de/wp-content/uploads/2024/04/NEU-logo-freigeister_rgb300-farbe-002.jpg
END:VEVENT
BEGIN:VEVENT
DTSTART;TZID=Europe/Berlin:20240619T180000
DTEND;TZID=Europe/Berlin:20240619T200000
DTSTAMP:20260424T011527
CREATED:20240412T115810Z
LAST-MODIFIED:20240503T124945Z
UID:10000394-1718820000-1718827200@compagnie-de-comedie.de
SUMMARY:ALICE IM WUNDERLAND - Theatergruppe Freigeister
DESCRIPTION:ALICE IM WUNDERLAND\nNach dem Buch von Lewis Carroll\nTheatergruppe Freigeister \nEben noch langweilte sich Alice im Gras\, dann hüpft plötzlich ein weißes Kaninchen sehr\neilig an ihr vorbei. Ohne darüber nachzudenken\, stürzt sie diesem in den Kaninchenbau\nhinterher und landet mitten im Wunderland. Hier herrscht die unberechenbare rote Königin und jeder\, der sich ihr widersetzt\, riskiert Kopf und Kragen. Doch zwischen Hutmacher\, Grinsekatze und vielen weiteren Absurditäten\, kann der mutigen Alice eine Tyrannin nicht so schnell schocken. \nReservierungen: 0381/ 203 60 84\nKartenvorverkauf:\nBÜHNE 602\, Warnowufer 55\, 18057 Rostock\nMo – Fr von 10:00 – 12:00 Uhr\nFr von 14:00 – 18:00 Uhr\n(Keine Kartenzahlung möglich) \noder Online:\nhttp://www.mvticket.de/b602shop \nDie Abendkasse öffnet eine Stunde vor Veranstaltungsbeginn.
URL:https://compagnie-de-comedie.de/event/alice-im-wunderland-theatergruppe-freigeister/2024-06-19/1/
LOCATION:Klostergarten\, Kloster zum Heiligen Kreuz Rostock\, Klosterhof 1\, Rostock\, Mecklenburg-Vorpommern\, 18055\, Deutschland
ATTACH;FMTTYPE=image/jpeg:https://compagnie-de-comedie.de/wp-content/uploads/2024/04/NEU-logo-freigeister_rgb300-farbe-002.jpg
END:VEVENT
BEGIN:VEVENT
DTSTART;TZID=Europe/Berlin:20240616T200000
DTEND;TZID=Europe/Berlin:20240616T220000
DTSTAMP:20260424T011527
CREATED:20240409T084756Z
LAST-MODIFIED:20240503T105002Z
UID:10000385-1718568000-1718575200@compagnie-de-comedie.de
SUMMARY:TIMSKIS Sommerkonzert
DESCRIPTION:TIMSKIS Sommerkonzert \nWieder heimgekehrt von großer Fahrt packen die TIMSKIS im Klostergarten ihre Mitbringsel aus:\nMusik aus den Bars und Hafenkneipen in Dublin\, Singapur\, Marseille und Bukarest (? ja Binnenschifffahrt zählt auch).\nMit großer Spielfreude und wechselndem Instrumentarium werden Lieder von Piaf\, Bronski Beat oder Jennifer Rostock zelebriert… und Peter Gabriels „Mercy Street“ ist auch nur zwei Blocks von den Docks in Manhatten entfernt. \nReservierungen: 0381/ 203 60 84\nKartenvorverkauf:\nBÜHNE 602\, Warnowufer 55\, 18057 Rostock\nMo – Fr von 10:00 – 12:00 Uhr\nFr von 14:00 – 18:00 Uhr\n(Keine Kartenzahlung möglich) \noder Online:\nhttp://www.mvticket.de/b602shop \nDie Abendkasse öffnet eine Stunde vor Veranstaltungsbeginn.
URL:https://compagnie-de-comedie.de/event/timskis-sommerkonzert/2024-06-16/
LOCATION:Klostergarten\, Kloster zum Heiligen Kreuz Rostock\, Klosterhof 1\, Rostock\, Mecklenburg-Vorpommern\, 18055\, Deutschland
ATTACH;FMTTYPE=image/jpeg:https://compagnie-de-comedie.de/wp-content/uploads/2024/04/Timski-Foto-Timskis-1500.jpg
END:VEVENT
BEGIN:VEVENT
DTSTART;TZID=Europe/Berlin:20240615T200000
DTEND;TZID=Europe/Berlin:20240615T220000
DTSTAMP:20260424T011527
CREATED:20240327T100657Z
LAST-MODIFIED:20240508T094444Z
UID:10000370-1718481600-1718488800@compagnie-de-comedie.de
SUMMARY:tell Tell (WILHELM TELL) - Ein Lustspiel von Albert Frank nach Friedrich Schiller
DESCRIPTION:tell Tell (WILHELM TELL)\nEin Lustspiel von Albert Frank nach Friedrich Schiller \nDrei enthusiastische Spieler*innen wollen „Wilhelm Tell“ auf die Bühne bringen. Doch ein Schauspieler ist auch nur ein Mensch und in diesem Fall ein übernächtigter Vater oder eine Mutter. Die aktuellen Themen im wahren Leben werden in Schillers Drama über den Schweizer Freiheitskampf und den Vater erzählt\, der mit dem Apfelschuss die schwerste Probe seines Lebens bestehen muss. Umgekehrt entzünden sich die schlagfertigen Konflikte der drei Schauspieler über das Drama. So wird nicht nur auf raffinierte und äußerst unterhaltsame Weise der ganze Tell erzählt\, vielmehr wird er zum hochaktuellen Stück. Es geht um die Rollenbilder von Mann und Frau und Vater und Mutter\, aber auch um die Schwierigkeit\, Kinder und Job unter einen Hut zu bringen und um die Emanzipation. Das Publikum wird bestens unterhalten! Ein Theaterspaß\, der den Klassiker auf humorvolle Weise ernst nimmt und ihn auf seine Aktualität hinterfragt. \nReservierungen: 0381/ 203 60 84\nKartenvorverkauf:\nMo – Fr von 10:00 – 12:00 Uhr\nFr von 14:00 – 18:00 Uhr\n(Keine Kartenzahlung möglich) \noder Online:\nhttp://www.mvticket.de/b602shop \nDie Theaterkasse ist 1 Stunde vor Vorstellungsbeginn geöffnet.
URL:https://compagnie-de-comedie.de/event/tell-tell-wilhelm-tell-nach-friedrich-schiller/2024-06-15/
LOCATION:Klostergarten\, Kloster zum Heiligen Kreuz Rostock\, Klosterhof 1\, Rostock\, Mecklenburg-Vorpommern\, 18055\, Deutschland
ATTACH;FMTTYPE=image/jpeg:https://compagnie-de-comedie.de/wp-content/uploads/2024/04/Plakat-tell-Tell-A3-1500-scaled.jpg
END:VEVENT
BEGIN:VEVENT
DTSTART;TZID=Europe/Berlin:20240614T200000
DTEND;TZID=Europe/Berlin:20240614T220000
DTSTAMP:20260424T011527
CREATED:20240412T105348Z
LAST-MODIFIED:20240508T095012Z
UID:10000392-1718395200-1718402400@compagnie-de-comedie.de
SUMMARY:tell Tell (WILHELM TELL) - Ein Lustspiel von Albert Frank nach Friedrich Schiller
DESCRIPTION:tell Tell (WILHELM TELL)\nEin Lustspiel von Albert Frank nach Friedrich Schiller\nEs spielen Berit Möller\, Marcus Möller und Peer Roggendorf \nDrei enthusiastische Spieler*innen wollen „Wilhelm Tell“ auf die Bühne bringen. Doch ein Schauspieler ist auch nur ein Mensch und in diesem Fall ein übernächtigter Vater oder eine Mutter. Die aktuellen Themen im wahren Leben werden in Schillers Drama über den Schweizer Freiheitskampf und den Vater erzählt\, der mit dem Apfelschuss die schwerste Probe seines Lebens bestehen muss. Umgekehrt entzünden sich die schlagfertigen Konflikte der drei Schauspieler über das Drama. So wird nicht nur auf raffinierte und äußerst unterhaltsame Weise der ganze Tell erzählt\, vielmehr wird er zum hochaktuellen Stück. Es geht um die Rollenbilder von Mann und Frau und Vater und Mutter\, aber auch um die Schwierigkeit\, Kinder und Job unter einen Hut zu bringen und um die Emanzipation. Das Publikum wird bestens unterhalten! Ein Theaterspaß\, der den Klassiker auf humorvolle Weise ernst nimmt und ihn auf seine Aktualität hinterfragt. \nReservierungen: 0381/ 203 60 84\nKartenvorverkauf:\nMo – Fr von 10:00 – 12:00 Uhr\nFr von 14:00 – 18:00 Uhr\n(Keine Kartenzahlung möglich) \noder Online: http://www.mvticket.de/b602shop \nDie Theaterkasse ist 1 Stunde vor Vorstellungsbeginn geöffnet.
URL:https://compagnie-de-comedie.de/event/tell-tell-wilhelm-tell-nach-friedrich-schiller-ein-lustspiel-von-albert-frank/
LOCATION:Klostergarten\, Kloster zum Heiligen Kreuz Rostock\, Klosterhof 1\, Rostock\, Mecklenburg-Vorpommern\, 18055\, Deutschland
ATTACH;FMTTYPE=image/jpeg:https://compagnie-de-comedie.de/wp-content/uploads/2024/04/Plakat-tell-Tell-A3-1500-scaled.jpg
END:VEVENT
BEGIN:VEVENT
DTSTART;TZID=Europe/Berlin:20240613T200000
DTEND;TZID=Europe/Berlin:20240613T220000
DTSTAMP:20260424T011527
CREATED:20240402T111755Z
LAST-MODIFIED:20240402T111823Z
UID:10000378-1718308800-1718316000@compagnie-de-comedie.de
SUMMARY:BIEST OF BOURBON - Rock im Klostergarten
DESCRIPTION:BIEST OF BOURBON\nRock im Klostergarten \nDas Biest singt Rockmusik a la Tina Turner\, Melissa Etheridge\, Adele\, Cindy Lauper\, Alannah Myles\, Chaka Khan\, ZAZ\, Robin Beck\, Janis Joplin… und und und …\nDie Band ist eine Mischung aus gestandenen Musikern\, die diese Arbeit seit vielen Jahren tun und bemerkenswert talentiertem Nachwuchs. Eine Symbiose\, die sich gegenseitig auf die Sprünge hilft…\nEinerseits die wilden jungen Chaoten\, die sich nicht mit dem Glas Milch abspeisen lassen und andererseits die\, die wissen\, wo das hin führt…Zusammen finden sie sich in den endlosen Weiten der Rockmusik der 70er Jahre bis ins absolute Heute.\nMareike Schumacher – Gesang / Akk.- Gitarre\, Christoph Gundlach – Tasteninstrumente\, Johannes Pistor – Gitarre\, Thomas Lehner – Bass\nPhillip Lehner – Schlagzeug \nReservierungen: 0381/ 203 60 84\nKartenvorverkauf:\nBÜHNE 602\, Warnowufer 55\, 18057 Rostock\nMo – Fr von 10:00 – 12:00 Uhr\nFr von 14:00 – 18:00 Uhr\n(Keine Kartenzahlung möglich) \noder Online:http://www.mvticket.de/b602shop \nDie Abendkasse öffnet eine Stunde vor Veranstaltungsbeginn.
URL:https://compagnie-de-comedie.de/event/biest-of-bourbon-rock-im-klostergarten/
LOCATION:Klostergarten\, Kloster zum Heiligen Kreuz Rostock\, Klosterhof 1\, Rostock\, Mecklenburg-Vorpommern\, 18055\, Deutschland
ATTACH;FMTTYPE=image/jpeg:https://compagnie-de-comedie.de/wp-content/uploads/2024/04/Biest-of-Bourbon-1-Foto-Jens-Wagner-1500.jpg
END:VEVENT
BEGIN:VEVENT
DTSTART;TZID=Europe/Berlin:20240612T200000
DTEND;TZID=Europe/Berlin:20240612T220000
DTSTAMP:20260424T011527
CREATED:20240612T124700Z
LAST-MODIFIED:20240612T124700Z
UID:10000373-1718222400-1718229600@compagnie-de-comedie.de
SUMMARY:Witterungsbedingter Ausfall! - DER FLIEGENDE HOLLÄNDER - Eine groteske Komödie von Friedrich Huch
DESCRIPTION:DER FLIEGENDE HOLLÄNDER\nEine groteske Komödie von Friedrich Huch \nDer fliegende Holländer: Peer Roggendorf\nDer Seefahrer Daland: Marcus Möller\nSenta\, seine Tochter: Berit Möller\nErik\, ein Jäger: Marcus Möller\nMary\, Sentas Amme: Angela Schlabinger\nMatrosen\, Dienstmädchen\, Hochzeitsgäste: Alle \nVor einer wüsten Insel begegnen sich der Seefahrer Daland und der fliegende Holländer\, der es alle sieben Jahre nur für drei Tage an Land schafft. Er bittet den Seefahrer Daland um seine Tochter und schenkt ihm Kisten voller Perlen\, Ketten\, Diamanten und Amuletten. Doch Dalands Tochter Senta ist verlobt mit Erik also bleibt nur Sentas Amme\, die alte Mary. Senta jedoch kann Erik nicht ertragen. Und der fliegende Holländer kennt Mary noch aus alten Tagen. Doch nun funkt es zwischen Senta und dem fliegenden Holländer wunderbar und sie verlieben sich sehr sonderbar. Mary aber will das nicht. Es funkt\, es knirscht\, es schallt und lacht. Es fallen Schüsse und es kracht. Auf geht der Vorhang und die Sehnsucht tobt. Der Erik ist nun Luft geworden und Senta liebt den fremden Mann. Und der Aufbruch neu begann. Besteigt das Schiff und seht die See: juchee\, juchee!!! Wir sind entzückt und nun beglückt!\nEine groteske Komödie in drei heiteren Akten. Voller Witz und Charme und wundersamer Fakten. Herzlich willkommen! \nReservierungen: Tel.: 0381/ 203 60 84\nBÜHNE 602\, Warnowufer 55\, 18057 Rostock\nKartenvorverkauf:\nMo – Fr von 10:00 – 12:00 Uhr\nFr von 14:00 – 18:00 Uhr\n(Keine Kartenzahlung möglich)\noder online: www.mvticket.de/b602shop \nDie Theaterkasse ist 1 Stunde vor Veranstaltungsbeginn geöffnet.
URL:https://compagnie-de-comedie.de/event/der-fliegende-hollaender-eine-groteske-komoedie-von-friedrich-huch-21-2/
LOCATION:Klostergarten\, Kloster zum Heiligen Kreuz Rostock\, Klosterhof 1\, Rostock\, Mecklenburg-Vorpommern\, 18055\, Deutschland
ATTACH;FMTTYPE=image/jpeg:https://compagnie-de-comedie.de/wp-content/uploads/2024/03/000-Alle-07-Der-fliegende-Hollaender-14x21-Foto-Frank-Neumann-1500.jpg
END:VEVENT
BEGIN:VEVENT
DTSTART;TZID=Europe/Berlin:20240608T200000
DTEND;TZID=Europe/Berlin:20240608T220000
DTSTAMP:20260424T011527
CREATED:20240411T103459Z
LAST-MODIFIED:20240411T103459Z
UID:10000391-1717876800-1717884000@compagnie-de-comedie.de
SUMMARY:MECKLENBURG x VORPOMMERN = JAZZFREUDE² - Big Band Nacht
DESCRIPTION:MECKLENBURG x VORPOMMERN = JAZZFREUDE²\nBig Band Nacht im Klostergarten\nUni Big Band Greifswald & Jellyfish Jazz Orchestra \nIm Herzen von Mecklenburg-Vorpommern zeigen am 08. Juni 2024 gleich zwei Big Bands was die Jazzszene unseres Bundeslandes zu bieten hat. Die spielbegeisterte Uni Big Band Greifswald eröffnet das Konzert um 20 Uhr unter der Leitung von Sarah Wolff. Das Repertoire der Band zeichnet sich vor allem durch seine große musikalische Vielfalt aus. Mit einer schwungvollen Mischung aus Swing\, Soul\, Cool Jazz und populären Songs weiß es sein Publikum zu erfreuen.\nAnschließend begeistert das Jellyfish Jazz Orchestra mit einem abwechslungsreichen Programm\, von den Anfängen der Big Band Historie bis heute. Songs von Stevie Wonder\, Peter Herbolzheimer\, Bob Mintzer\, aber auch sehr moderne Kompositionen der Kölner Saxophonistin Caroline Thon und der australischen Sängerin Kristin Bernardi finden ihren Platz auf den Notenpulten der Musiker:innen.\nDas Interesse beider Bands ist es\, alle Facetten des Bigband-Jazz zu erforschen und den Zuhörer:innen näher zu bringen. Die Neugierde und der Spaß an dieser Erkundungstour überträgt sich direkt auf das Publikum. So wird das gemeinsame Konzert zu einem Erlebnis sowohl für geübte Bigband-Hörer\, als auch für Neulinge in der Bigband-Familie. \nReservierungen: 0381/ 203 60 84\nKartenvorverkauf:\nBÜHNE 602\, Warnowufer 55\, 18057 Rostock\nMo – Fr von 10:00 – 12:00 Uhr\nFr von 14:00 – 18:00 Uhr\n(Keine Kartenzahlung möglich) \noder Online:\nhttp://www.mvticket.de/b602shop \nDie Abendkasse öffnet eine Stunde vor Veranstaltungsbeginn.
URL:https://compagnie-de-comedie.de/event/mecklenburg-x-vorpommern-jazzfreude%c2%b2-big-band-nacht/
LOCATION:Klostergarten\, Kloster zum Heiligen Kreuz Rostock\, Klosterhof 1\, Rostock\, Mecklenburg-Vorpommern\, 18055\, Deutschland
ATTACH;FMTTYPE=image/jpeg:https://compagnie-de-comedie.de/wp-content/uploads/2024/04/Jellyfish2-Foto-turboturbo-1500.jpg
END:VEVENT
BEGIN:VEVENT
DTSTART;TZID=Europe/Berlin:20240607T200000
DTEND;TZID=Europe/Berlin:20240607T220000
DTSTAMP:20260424T011527
CREATED:20240322T141322Z
LAST-MODIFIED:20240606T072851Z
UID:10000361-1717790400-1717797600@compagnie-de-comedie.de
SUMMARY:DER FLIEGENDE HOLLÄNDER
DESCRIPTION:Eine groteske Komödie von Friedrich Huch\nMit Peer Roggendorf\, Berit Möller\, Angela Schlabinger und Marcus Möller \nVor einer wüsten Insel begegnen sich der Seefahrer Daland und der fliegende Holländer\, der es alle sieben Jahre nur für drei Tage an Land schafft. Er bittet den Seefahrer Daland um seine Tochter und schenkt ihm Kisten voller Perlen\, Ketten\, Diamanten und Amuletten. Doch Dalands Tochter Senta ist verlobt mit Erik also bleibt nur Sentas Amme\, die alte Mary. Senta jedoch kann Erik nicht ertragen. Und der fliegende Holländer kennt Mary noch aus alten Tagen. Doch nun funkt es zwischen Senta und dem fliegenden Holländer wunderbar und sie verlieben sich sehr sonderbar. Mary aber will das nicht. Es funkt\, es knirscht\, es schallt und lacht. Es fallen Schüsse und es kracht. Auf geht der Vorhang und die Sehnsucht tobt. Der Erik ist nun Luft geworden und Senta liebt den fremden Mann. Und der Aufbruch neu begann. Besteigt das Schiff und seht die See: juchee\, juchee!!! Wir sind entzückt und nun beglückt! Eine groteske Komödie in drei heiteren Akten. Voller Witz und Charme und wundersamer Fakten. \nReservierungen: Tel.: 0381/ 203 60 84\nBÜHNE 602\, Warnowufer 55\, 18057 Rostock\nKartenvorverkauf:\nMo – Fr von 10:00 – 12:00 Uhr\nFr von 14:00 – 18:00 Uhr\n(Keine Kartenzahlung möglich)\noder online:http://www.mvticket.de/b602shop \nDie Theaterkasse ist 1 Stunde vor Veranstaltungsbeginn geöffnet.
URL:https://compagnie-de-comedie.de/event/der-fliegende-hollaender/
LOCATION:Klostergarten\, Kloster zum Heiligen Kreuz Rostock\, Klosterhof 1\, Rostock\, Mecklenburg-Vorpommern\, 18055\, Deutschland
ATTACH;FMTTYPE=image/jpeg:https://compagnie-de-comedie.de/wp-content/uploads/2024/05/000-Alle-07-Der-fliegende-Hollaender-14x21-Foto-Frank-Neumann-1500.jpg
END:VEVENT
BEGIN:VEVENT
DTSTART;TZID=Europe/Berlin:20240606T200000
DTEND;TZID=Europe/Berlin:20240606T220000
DTSTAMP:20260424T011527
CREATED:20240322T125758Z
LAST-MODIFIED:20240606T072757Z
UID:10000360-1717704000-1717711200@compagnie-de-comedie.de
SUMMARY:DER FLIEGENDE HOLLÄNDER - WIEDERAUFNAHME!
DESCRIPTION:Eine groteske Komödie von Friedrich Huch\nMit Peer Roggendorf\, Berit Möller\, Angela Schlabinger und Marcus Möller \nVor einer wüsten Insel begegnen sich der Seefahrer Daland und der fliegende Holländer\, der es alle sieben Jahre nur für drei Tage an Land schafft. Er bittet den Seefahrer Daland um seine Tochter und schenkt ihm Kisten voller Perlen\, Ketten\, Diamanten und Amuletten. Doch Dalands Tochter Senta ist verlobt mit Erik also bleibt nur Sentas Amme\, die alte Mary. Senta jedoch kann Erik nicht ertragen. Und der fliegende Holländer kennt Mary noch aus alten Tagen. Doch nun funkt es zwischen Senta und dem fliegenden Holländer wunderbar und sie verlieben sich sehr sonderbar. Mary aber will das nicht. Es funkt\, es knirscht\, es schallt und lacht. Es fallen Schüsse und es kracht. Auf geht der Vorhang und die Sehnsucht tobt. Der Erik ist nun Luft geworden und Senta liebt den fremden Mann. Und der Aufbruch neu begann. Besteigt das Schiff und seht die See: juchee\, juchee!!! Wir sind entzückt und nun beglückt! Eine groteske Komödie in drei heiteren Akten. Voller Witz und Charme und wundersamer Fakten. \nReservierungen: Tel.: 0381/ 203 60 84\nBÜHNE 602\, Warnowufer 55\, 18057 Rostock\nKartenvorverkauf:\nMo – Fr von 10:00 – 12:00 Uhr\nFr von 14:00 – 18:00 Uhr\n(Keine Kartenzahlung möglich)\noder online: http://www.mvticket.de/b602shop \nDie Theaterkasse ist 1 Stunde vor Veranstaltungsbeginn geöffnet.
URL:https://compagnie-de-comedie.de/event/der-fliegende-hollaender-wiederaufnahme/
LOCATION:Klostergarten\, Kloster zum Heiligen Kreuz Rostock\, Klosterhof 1\, Rostock\, Mecklenburg-Vorpommern\, 18055\, Deutschland
ATTACH;FMTTYPE=image/jpeg:https://compagnie-de-comedie.de/wp-content/uploads/2024/05/000-Alle-07-Der-fliegende-Hollaender-14x21-Foto-Frank-Neumann-1500.jpg
END:VEVENT
BEGIN:VEVENT
DTSTART;TZID=Europe/Berlin:20240601T200000
DTEND;TZID=Europe/Berlin:20240601T220000
DTSTAMP:20260424T011527
CREATED:20240322T113235Z
LAST-MODIFIED:20240513T084658Z
UID:10000359-1717272000-1717279200@compagnie-de-comedie.de
SUMMARY:tell TELL (Wilhelm Tell)
DESCRIPTION:Nach Friedrich Schiller\nEin Lustspiel von Albert Frank nach Friedrich Schiller\nInszenierung und Bühne: Max Claessen\nEs spielen: Berit Möller\, Marcus Möller und Peer Roggendorf \nDrei enthusiastische Spieler*innen wollen „Wilhelm Tell“ auf die Bühne bringen. Doch ein Schauspieler*in ist auch nur ein Mensch und in diesem Fall ein übernächtigter Vater oder eine Mutter. Die aktuellen Themen im wahren Leben werden in Schillers Drama über den Schweizer Freiheitskampf und den Vater erzählt\, der mit dem Apfelschuss die schwerste Probe seines Lebens bestehen muss. Umgekehrt entzünden sich die schlagfertigen Konflikte der drei Schauspieler*innen über die Geschichte. So wird nicht nur auf raffinierte und äußerst unterhaltsame Weise der ganze Tell erzählt\, vielmehr wird er zum hochaktuellen Stück. Es geht um die Rollenbilder von Mann und Frau und Vater und Mutter\, aber auch um die Schwierigkeit\, Kinder und Job unter einen Hut zu bringen und um die Emanzipation. Das Publikum wird bestens unterhalten! Ein Theaterspaß\, der den Klassiker auf humorvolle Weise ernst nimmt und ihn auf seine Aktualität hinterfragt. \nReservierungen: 0381/ 203 60 84\nKartenvorverkauf:\nMo – Fr von 10:00 – 12:00 Uhr\nFr von 14:00 – 18:00 Uhr\n(Keine Kartenzahlung möglich) \noder Online: http://www.mvticket.de/b602shop \nDie Theaterkasse ist 1 Stunde vor Vorstellungsbeginn geöffnet.
URL:https://compagnie-de-comedie.de/event/tell-tell-wilhelm-tell/
LOCATION:Klostergarten\, Kloster zum Heiligen Kreuz Rostock\, Klosterhof 1\, Rostock\, Mecklenburg-Vorpommern\, 18055\, Deutschland
ATTACH;FMTTYPE=image/jpeg:https://compagnie-de-comedie.de/wp-content/uploads/2024/04/Plakat-tell-Tell-A3-1500-scaled.jpg
END:VEVENT
BEGIN:VEVENT
DTSTART;TZID=Europe/Berlin:20240531T200000
DTEND;TZID=Europe/Berlin:20240531T220000
DTSTAMP:20260424T011527
CREATED:20240314T091540Z
LAST-MODIFIED:20240508T095325Z
UID:10000353-1717185600-1717192800@compagnie-de-comedie.de
SUMMARY:PREMIERE - tell TELL (WILHELM TELL) - Ein Lustspiel von Albert Frank nach Friedrich Schiller
DESCRIPTION:tell Tell (Wilhelm Tell)\nEin Lustspiel von Albert Frank nach Friedrich Schiller\nInszenierung und Bühne: Max Claessen\nEs spielen: Berit Möller\, Marcus Möller und Peer Roggendorf \nDrei enthusiastische Spieler*innen wollen „Wilhelm Tell“ auf die Bühne bringen. Doch ein Schauspieler*in ist auch nur ein Mensch und in diesem Fall ein übernächtigter Vater oder eine Mutter. Die aktuellen Themen im wahren Leben werden in Schillers Drama über den Schweizer Freiheitskampf und den Vater erzählt\, der mit dem Apfelschuss die schwerste Probe seines Lebens bestehen muss. Umgekehrt entzünden sich die schlagfertigen Konflikte der drei Schauspieler*innen über die Geschichte. So wird nicht nur auf raffinierte und äußerst unterhaltsame Weise der ganze Tell erzählt\, vielmehr wird er zum hochaktuellen Stück. Es geht um die Rollenbilder von Mann und Frau und Vater und Mutter\, aber auch um die Schwierigkeit\, Kinder und Job unter einen Hut zu bringen und um die Emanzipation. Das Publikum wird bestens unterhalten! Ein Theaterspaß\, der den Klassiker auf humorvolle Weise ernst nimmt und ihn auf seine Aktualität hinterfragt. \nReservierungen: 0381/ 203 60 84\nKartenvorverkauf:\nMo – Fr von 10:00 – 12:00 Uhr\nFr von 14:00 – 18:00 Uhr\n(Keine Kartenzahlung möglich) \noder Online: http://www.mvticket.de/b602shop \nDie Theaterkasse ist 1 Stunde vor Vorstellungsbeginn geöffnet.
URL:https://compagnie-de-comedie.de/event/premiere-tell-tell-wilhelm-tell-nach-friedrich-schiller-ein-lustspiel-von-albert-frank/
LOCATION:Klostergarten\, Kloster zum Heiligen Kreuz Rostock\, Klosterhof 1\, Rostock\, Mecklenburg-Vorpommern\, 18055\, Deutschland
ATTACH;FMTTYPE=image/jpeg:https://compagnie-de-comedie.de/wp-content/uploads/2024/04/Plakat-tell-Tell-A3-1500-scaled.jpg
END:VEVENT
END:VCALENDAR